BEGIN:VCALENDAR
VERSION:2.0
PRODID:-//PMI® São Paulo - ECPv6.15.20//NONSGML v1.0//EN
CALSCALE:GREGORIAN
METHOD:PUBLISH
X-ORIGINAL-URL:https://pmisp.org.br
X-WR-CALDESC:Eventos para PMI® São Paulo
REFRESH-INTERVAL;VALUE=DURATION:PT1H
X-Robots-Tag:noindex
X-PUBLISHED-TTL:PT1H
BEGIN:VTIMEZONE
TZID:America/Sao_Paulo
BEGIN:STANDARD
TZOFFSETFROM:-0300
TZOFFSETTO:-0300
TZNAME:-03
DTSTART:20240101T000000
END:STANDARD
END:VTIMEZONE
BEGIN:VEVENT
DTSTART;TZID=America/Sao_Paulo:20250506T190000
DTEND;TZID=America/Sao_Paulo:20250605T220000
DTSTAMP:20260420T161106
CREATED:20241223T192248Z
LAST-MODIFIED:20241223T192306Z
UID:2714-1746558000-1749160800@pmisp.org.br
SUMMARY:FpGP - Formação em Prática de GP - Terças e Quintas - Turma 04
DESCRIPTION:Detalhes do Curso \nCarga Horária: 30 horas\nFormato: Online\nAulas: Terças e Quintas\, das 19:00 às 22:00\nInício: 06 de Maio de 2025\nTérmino: 05 de Junho de 2025\nA conclusão do curso teórico e prático concede 30 PDU’s\nIdioma: Português (Aula e Materiais)\n \n\n\nFpGP – Formação em Práticas de Gerenciamento de Projetos\nSobre o treinamento\nA formação em prática de Gerenciamento de Projetos\, ensina gerentes funcionais\, gerentes de projetos e/ou analistas em gerenciamento de projetos a conseguirem desenvolver um projeto desde o início e a evoluir aplicando o PMBOK em seu dia a dia.\n \nPara muitas organizações que desejam transformações para prosperar na economia disruptiva de hoje\, trabalhando com projetos\, ter profissionais que dominem como transformar uma ideia em projeto executável\, conhecer sobre a execução do gerenciamento de projetos\, gera uma vantagem competitiva para sua operação e garante uma melhora em sua própria “maneira de trabalhar”.\n \n\nLeve seu conhecimento e experiência em gerenciamento de projetos para o próximo nível. Treine as equipes sobre como aplicar e otimizar o uso em toda a empresa.\n\n\nInteligência Artificial Aplicada a Projetos\nQuer aprender Inteligência Artificial aplicada a projetos na Prática?\n\nEm nosso treinamento de Formação Prática de Gerenciamento de Projetos (FpGP) no PMI-SP\, você aprende a utilizar a inteligência artificial em projetos na prática\, usando ferramentas como infinity.pmi.org e o ChatGPT da OpenAI aliado ao contexto de negócios\, business agility e outras ferramentas.\n\nUtilizamos em todos os 10 encontros a Inteligência Artificial\, pautados nas principais áreas do Gerenciamento de Portfólio\, Programas (Novo)\, Business Requeriments (Novo)\, PMBOK 7ed.\, Guia de Processos (Novo) e Guia Ágil. O curso é totalmente novo\, moderno\, pensado\, elaborado e entregue para a comunidade de gerentes de projetos\, como resposta aos inúmeros desafios desta brilhante carreira.\n \nAprenda nas aulas a resolver problemas reais\, aplicando em casos de uso real. Você aprende\, reflete e pivota\, tornando-se um profissional mais completo e desejado pelas empresas.\n\n\n\nPara quem é esse curso\n\n• Qualquer profissional ou especialista que deseje implementar projetos ou alguém que queira aprender sobre como criar um projeto. O candidato pode ser de qualquer domínio e o curso não está restrito a TI ou a um domínio específico.\n• Se você está procurando treinamento em práticas em gerenciamento de projetos com treinadores experientes e altamente qualificados do PMI-SP que podem te ajudar a melhorar na condução de projetos.\n• O curso de formação em práticas de gerenciamento de projetos auxilia caso tenha um conhecimento profundo do PMBOK\, de suas ferramentas e das centenas de práticas e estratégias que ele contém – seria importante\, mas não obrigatório.\n \n\n\n\nClique para saber mais sobre cursos como: CAPM\, PMP\, PgMP\, PfMP\, ACP\, DASM\, DASSM e muito mais.\n\n\nRecursos de treinamento\n• Apostila com a teoria e prática em plataformas de colaboração\n• Instrutor PMI®️ Certificado CAPM ou PMP em sala \n• Treinamento on-line ao vivo\n• Conteúdo do curso de alta qualidade pelo PMI e PMI-SP\n• Certificado de conclusão do curso\n• Aulas convenientes (opções para fins de semana e dias de semana)\n\n\nPré-aula\n• A cada aula tem um documento sobre a Pré-aula de 1 hora para que o aluno se prepare para a aula\, tomando conhecimento da abordagem\, bibliografias\, esquemas\, planilhas\, esclarecimentos técnicos e básicos sobre o que será abordado na aula\, e considera-se que o aluno tenha esse compromisso de leitura.\n• Ao matricular-se o aluno participará de um grupo de Whatsapp e será assistido pelo GP do curso\, podendo obter esclarecimentos sobre a pré-aula\, aula e pós-aula. 
URL:https://pmisp.org.br/evento/fpgp-formacao-em-pratica-de-gp-tercas-e-quintas-turma-04/
CATEGORIES:Treinamentos PMI São Paulo
ATTACH;FMTTYPE=image/webp:https://pmisp.org.br/wp-content/uploads/2024/12/FPGP.webp
ORGANIZER;CN="PMI%C2%AE S%C3%A3o Paulo Project Management Institute Cap%C3%ADtulo S%C3%A3o Paulo":MAILTO:treinamentos@pmisp.org.br
END:VEVENT
BEGIN:VEVENT
DTSTART;TZID=America/Sao_Paulo:20250506T190000
DTEND;TZID=America/Sao_Paulo:20250605T230000
DTSTAMP:20260420T161106
CREATED:20241223T191922Z
LAST-MODIFIED:20241223T191922Z
UID:2712-1746558000-1749164400@pmisp.org.br
SUMMARY:Preparatório Oficial PMP® Online - Terças e Quintas - Turma 59
DESCRIPTION:Detalhes do Curso\nCarga Horária: 40 horas\nFormato: Online\nAulas: Segundas-feiras e Quartas-feiras das 19:00 às 23:00\nInício: 06 de Maio de 2025\nTérmino: 05 de Junho de 2025\nA conclusão do preparatório concede 35 PDU’s\nIdioma: Português (Aula e Materiais)\n\n\n\n\nProject Management Professional\nAumente suas possibilidades\, turbine suas habilidades e trabalhe com mais inteligência!\nO Project Management Professional (PMP®) é a certificação líder mundial em gerenciamento de projetos. Agora incluindo abordagens preditivas\, ágeis e híbridas\, o PMP® prova experiência e expertise em liderança de projeto em qualquer forma de trabalho.\nA certificação PMP® é projetada por profissionais de projetos\, para profissionais de projetos e valida que você está altamente qualificado em:\n• Pessoas\, enfatizando as habilidades básicas de que você precisa para liderar com eficácia uma equipe de projeto no ambiente em constante mudança de hoje.\n• Processo\, reforçando os aspectos técnicos de uma gestão bem-sucedida de projetos.\n• Ambiente de Negócios\, destacando a conexão entre os projetos e a estratégia organizacional.\nA certificação PMP® valida que você tem as habilidades de liderança de projeto que os empregadores procuram. O novo PMP® inclui três abordagens principais: Preditivo (cascata)\, Ágil e Híbrido.\n \nConteúdo:\n\n• 1A – Fundamentos\n• 1B – Alinhamento estratégico\n• 1C – Benefícios e valor do projeto\n• 1D – Culta organizacional e gerenciamento de mudanças\n• 1E – Governança do projeto\n• 1F – Conformidade do projeto\nLição 2: Início do Projeto\n• 2A – Identificar e engajar as partes interessadas\n• 2B – Formação da equipe\n• 2C – Criar um entendimento comum\n• 2D – Decidir a abordagem/metodologia do projeto\nLição 3: Planejamento do Projeto\n• 3A – Planejamento do Projeto\n• 3B – Escopo\n• 3C – Cronograma\n• 3D – Recursos\n• 3E – Orçamento\n• 3F – Riscos\n• 3G – Qualidade\n• 3H – Integração dos Planos\nLição 4: Liderar a equipe do projeto\n• 4A – Desenvolvimento de seu estilo de liderança\n• 4B – Criação de um ambiente colaborativo para equipes do projeto\n• 4C – Capacitação da equipe\n• 4D – Apoio ao desempenho dos membros da equipe\n• 4E – Comunicação e colaboração com as partes interessadas\n• 4F – Treinamento de membros da equipe e partes interessadas\n• 4G – Gerenciamento de conflitos\nLição 5: Apoio ao desempenho da equipe do projeto\n• 5A – Implementação de melhorias contínuas\n• 5B – Apoio ao desempenho\n• 5C – Avaliação do progresso do projeto\n• 5D – Lidar com questões e impedimentos\n• 5E – Gerenciamento de mudanças\n\nLição 6: Encerramento de projeto/fase\n• 6A – Encerramento do projeto/fase\n• 6B – Concretização dos benefícios\n• 6C – Transferência de conhecimento\n \nConteúdo adicional:\n3 Exames simulados elaborados pelo PMI com 100 questões cada e acesso através da plataforma Socrative.\nAs correções são apresentadas na plataforma\, em 06 aulas gravadas e\, opcionalmente\, podem ser disponibilizadas em aulas ao vivo.\n\n\n \nPré-requisitos:\nCategoria 1: Ensino Superior completo + 3 anos de experiência em gerenciamento de projetos.\nCategoria 2: Ensino Médio completo + 5 anos de experiência em gerenciamento de projetos.
URL:https://pmisp.org.br/evento/preparatorio-oficial-pmp-online-tercas-e-quintas-turma-59/
CATEGORIES:Preparatórios Oficiais
ATTACH;FMTTYPE=image/webp:https://pmisp.org.br/wp-content/uploads/2024/12/PMP.webp
ORGANIZER;CN="PMI%C2%AE S%C3%A3o Paulo Project Management Institute Cap%C3%ADtulo S%C3%A3o Paulo":MAILTO:treinamentos@pmisp.org.br
END:VEVENT
BEGIN:VEVENT
DTSTART;TZID=America/Sao_Paulo:20250602T190000
DTEND;TZID=America/Sao_Paulo:20250618T230000
DTSTAMP:20260420T161106
CREATED:20241223T192649Z
LAST-MODIFIED:20241223T192649Z
UID:2716-1748890800-1750287600@pmisp.org.br
SUMMARY:Preparatório Oficial PMI DA (Disciplined Agile) - DAC Online - Terças e Quintas - Turma 02
DESCRIPTION:Detalhes do Curso \nCarga Horária: 24 horas\nFormato: Online\nAulas: Segundas e Quartas\, das 19:00 às 23:00\nInício: 01 de Julho de 2024\nTérmino: 17 de Julho de 2024\nA conclusão do preparatório concede 14 PDU’s\nIdioma: Português (Aula e Materiais)\n \n\n \n\nPREÇO ESPECIAL DE LANÇAMENTO DO TREINAMENTO!!!\n\n \nDisciplined Agile Coach\nSobre o treinamento\nO Disciplined Agile® não é uma estrutura\, mas um kit de ferramentas que se concentra nas decisões que você precisa considerar\, nas opções disponíveis e nas compensações associadas a essas opções.\n \nPara organizações que desejam transformações ágeis para prosperar na economia disruptiva de hoje\, o Disciplined Agile Coach (DAC®) lidera ajudando as equipes a resolver problemas originados em outras partes da organização e a melhorar sua própria “maneira de trabalhar”.\n \nO DAC® chega com um kit de ferramentas exclusivo\, propriedade intelectual para facilitar a tomada de decisões colaborativas e experiência em Melhoria Contínua Guiada (GCI). Além de apenas compreender as competências de coaching\, o DAC® constrói roteiros. O DAC® tem um manual pronto para ser usado no primeiro dia!\n \nLeve seu conhecimento e experiência em Disciplined Agile® para o próximo nível. Treine as equipes sobre como aplicar e otimizar o Disciplined Agile® em toda a empresa. Estabeleça credibilidade com a liderança organizacional. Ajude equipes e organizações a escolher sua forma de trabalhar (WoW) e obter a verdadeira agilidade nos negócios.\n\nO que você irá aprender\n\n\n• Entenda como alinhar equipes com estratégias e metas organizacionais para permitir a transformação ágil.\n• Facilite a mudança e a transformação cultural dentro e entre as equipes.\n• Treine equipes e grupos de equipes diferentes\, muitas vezes com prioridades e WoWs preferidos diferentes\, para identificar a maneira mais apropriada de trabalhar e aprender juntos\, dada a situação que enfrentam atualmente.\n• Colabore e seja potencialmente um membro ativo da equipe de transformação da sua organização.\n• Domine o kit de ferramentas Disciplined Agile® e\, assim\, acelere a melhoria de processos aproveitando práticas e estratégias comprovadas no contexto.\n• Esteja preparado para fazer o exame Disciplined Agile Coach (DAC®) e obter uma certificação valiosa e confiável. A taxa do exame está incluída na mensalidade.\n \n\nPara saber mais sobre a certificação DAC®\, acesse https://www.pmi.org/certifications/agile-certifications/disciplined-agile-coach-dac#\n\n\n\nDetalhando o conteúdo programático\n\nPré-workshop (Fase 1\, aprendizagem assíncrona):\n• Entender as diferenças entre o Agile Coach e o Agile Coach Disciplinado\n\n    • O que é um DA® Coach e quais são suas qualidades\n    • Como um coach DA® apoia e orienta equipes em direção à auto-organização\, auto-aperfeiçoamento e auto-aprendizagem\n    • Como um DA® Coach apoia mudanças em nível individual e de equipe\n    • E\, finalmente\, como os coaches DA® apoiam e orientam as equipes em sua jornada de transformação.\n    • Conheça mais o DAC®\, assista o vídeo clicando aqui.\n• Trabalhando em direção aos objetivos finais do coaching com DA®\n• Suportar as mudanças em nivels do indivíduo\, equipes\, e em equipes de equipes\n• Colaborar no coaching de Equipes dentro do contexto de sua organização\n• Treinar as equipes em sua jornada de transformação\n\n \nWorkshop (Fase 2\, aprendizagem presencial):\n• Entendendo o mindset do Disciplined Agile®\n• Trabalhando com sua equipe de governança e com PMO existente\n• Identificando desafios e competências\n• Determinando oportunidades de melhoria\n• Trabalhando com o backlog de melhorias\n• Criação de um manual de treinamento\n• Implementando melhoria contínua guiada (GCI)\n• Visualizando e removendo impedimentos\n• Determinar a causa raiz dos problemas\n• Apoiando a diversidade no local de trabalho\n• Orientando as equipes durante o processo de mudança\n• Superando barreiras para a tomada de decisão\n• Trabalho com equipes externas – GCI em equipes distintas\n• Ajudando sua organização a desenvolver as competências necessárias\n\n\n\n\n\n\n\n\n\nVocê é elegível para o exame DAC®\n\n• Três anos de experiência em coaching ágil\n• A certificação Disciplined Agile Senior Scrum Master (DASSM®) para garantir um conhecimento profundo do kit de ferramentas DA e das centenas de práticas e estratégias que ele contém\, seria importante\, mas não mais obrigatório.\n\n\n \n\n\n \nPara quem é a certificação DAC®? (Disciplined Agile Coach)\n\n• Qualquer profissional ou especialista que deseje implementar Agilidade ou alguém que queira aprender Agilidade no mais alto nível. O candidato pode ser de qualquer domínio e não pode estar restrito a TI ou a um domínio específico\, desde que atenda aos pré-requisitos.\n• Se você está procurando treinamento de certificação DAC®\, treinadores experientes e altamente qualificados da PMI-SP podem te ajudar a passar no DAC® na primeira tentativa.\n\n\n\nClique aqui para saber mais sobre as certificações.\n\n\nRecursos de treinamento\n• Instrutor PMI® Certificado em sala e treinamento on-line ao vivo em português\n• Conteúdo de curso de alta qualidade pelo PMI e PMI-SP em inglês\n• Um treinamento preparatório para exames de 24 horas\n• Certificado de Conclusão do Treinamento (exigido para elegibilidade para o exame)\n• Aulas convenientes (opções para fins de semana e dias de semana)\n• Dicas e truques para passar no exame na primeira tentativa\n• Simulador de exame gratuito\n• Sessão de coaching individual gratuita de uma hora com Padrinhos.\n• A taxa do exame está incluída\n• Aplicação de exame e suporte de auditoria\n\n\nMaterial de preparação para exame\n• Apostila do Aluno\n• Atividades interativas de aprendizagem\n• Simulador de Exames incluso\n• Acesso ao Portal de Aprendizagem\n• Planos de aula\n\n–
URL:https://pmisp.org.br/evento/preparatorio-oficial-pmi-da-disciplined-agile-dac-online-tercas-e-quintas-turma-02/
CATEGORIES:Preparatórios Oficiais
ATTACH;FMTTYPE=image/webp:https://pmisp.org.br/wp-content/uploads/2024/07/download-1.webp
ORGANIZER;CN="PMI%C2%AE S%C3%A3o Paulo Project Management Institute Cap%C3%ADtulo S%C3%A3o Paulo":MAILTO:treinamentos@pmisp.org.br
END:VEVENT
BEGIN:VEVENT
DTSTART;TZID=America/Sao_Paulo:20250623T190000
DTEND;TZID=America/Sao_Paulo:20250626T220000
DTSTAMP:20260420T161106
CREATED:20241223T192845Z
LAST-MODIFIED:20241223T192926Z
UID:2718-1750705200-1750975200@pmisp.org.br
SUMMARY:Transformação Digital Colaborativa - Citizen Developer T06
DESCRIPTION:Transformação Digital Colaborativa! Citizen Developer: Seja um Agente de Inovação Digital – Teoria e Prática\n\nDescubra o poder do Desenvolvimento Cidadão (Citizen Development) com nosso curso certificado\, desenhado para desbloquear o potencial de inovação e automação dentro da sua organização. O “Transforme-se em um Agente de Inovação Digital” não é apenas um curso; é uma jornada de capacitação que prepara profissionais de todas as áreas para liderarem a transformação digital através do desenvolvimento de aplicativos customizados sem a necessidade de codificação profunda.\n\n\nSão profissionais de qualquer área de negócio que criam aplicativos customizados usando ferramentas Low Code/ No Code para resolver os desafios encontrados na sua organização.\n\n\n\n\nÉ um ambiente de desenvolvimento de software por meio do visual\, super intuitivo! Permite que o Citizen Developer arraste componentes\, conectá-los e criar aplicativos de smartphone ou web aplicados\, no caso\, a solução de problemas da organização.\n\n\n\n\nO curso é realizado de forma síncrona\, durante 4 dias (segundas as quintas) das 19h às 22h\, totalizando 12 horas! O curso CD-F concede 12 PDUs!\n\nFase teórica:\nIntrodução ao Citizen Development\n\nO que é o desenvolvimento cidadão e por que é importante.\nOs benefícios do Citizen Development.\nQuem são os desenvolvedores cidadãos – Citizen Developers?\nO papel do desenvolvimento cidadão (Citizen Development) no mundo dos negócios atual.\n\n\nVisão Geral do Citizen Development Canvas\n\nPropósito do Citizen Development Canvas.\nComo planejar soluções eficazes sendo um Citizen Developer?\n\n\nIdeação 2.0\n\nO que é Ideação 2.0 e por que é valioso?\nMetodologias para gerar ideias inovadoras que atendem diretamente às necessidades da sua organização.\nEstratégias para identificar desafios organizacionais e aplicar soluções de Desenvolvimento Cidadão efetivas.\n\n\nFase prática:\nIntrodução a ambientes NoCode e Inteligência Artificial:\n\nVisão geral do Office 365 e seus principais recursos.\nUso eficaz do OneDrive e SharePoint para armazenamento e colaboração de arquivos.\nIntrodução ao AppSheet no Google WS.\nComo envolver a Inteligência Artificial para otimizar seus resultados em projetos hiperágeis sendo um Desenvolvedor Cidadão.\n\n\nIntrodução ao Power Platform e Bubble:\n\nApresentação da Power Platform e suas principais ferramentas: Power Apps\, Power Automate\, Power BI e Power Virtual Agents\nExploração dos recursos e benefícios de cada componente da Power Platform\nDemonstração de como criar aplicativos personalizados\, automatizar fluxos de trabalho\, visualizar dados e criar chatbots\n\n\nAplicando Gestão de Projeto dentro de plataformas NoCode e Casos Reais:\n\nDesenvolverá mini projetos utilizando plataformas Low Code/No Code como Bubble e Power Platform\, incluindo Power Automate.\nTrabalhará em casos reais do mercado\, aplicando soluções de Desenvolvimento Cidadão para resolver problemas complexos.\nAprenderá a realizar uma análise de requisitos eficaz para suas aplicações\, garantindo que elas atendam às necessidades da sua organização.\n\n\nBecome a Citizen Developer:\n\nExploração do papel do Citizen Developer na transformação digital\nDesenvolvimento de habilidades técnicas e conhecimentos necessários para se tornar um Citizen Developer\nMelhores práticas para a criação de soluções de negócios eficazes\nEmpoderamento para impulsionar a inovação e a automação dentro da organização\n\n\n\nCertificação de Conclusão\nAo final do curso\, os participantes receberão uma certificação do curso\, reconhecendo suas habilidades e conhecimentos adquiridos como Desenvolvedores Cidadãos. Esta certificação não apenas valida sua experiência prática\, mas também destaca seu comprometimento em impulsionar a inovação e a eficiência dentro de sua organização.
URL:https://pmisp.org.br/evento/transformacao-digital-colaborativa-citizen-developer-t06/
CATEGORIES:Treinamentos em Parceria
ATTACH;FMTTYPE=image/webp:https://pmisp.org.br/wp-content/uploads/2024/12/CD_F.webp
ORGANIZER;CN="PMI%C2%AE S%C3%A3o Paulo Project Management Institute Cap%C3%ADtulo S%C3%A3o Paulo":MAILTO:treinamentos@pmisp.org.br
END:VEVENT
END:VCALENDAR