BEGIN:VCALENDAR
VERSION:2.0
PRODID:-//PMI® São Paulo - ECPv6.15.20//NONSGML v1.0//EN
CALSCALE:GREGORIAN
METHOD:PUBLISH
X-ORIGINAL-URL:https://pmisp.org.br
X-WR-CALDESC:Eventos para PMI® São Paulo
REFRESH-INTERVAL;VALUE=DURATION:PT1H
X-Robots-Tag:noindex
X-PUBLISHED-TTL:PT1H
BEGIN:VTIMEZONE
TZID:America/Sao_Paulo
BEGIN:STANDARD
TZOFFSETFROM:-0300
TZOFFSETTO:-0300
TZNAME:-03
DTSTART:20240101T000000
END:STANDARD
END:VTIMEZONE
BEGIN:VEVENT
DTSTART;TZID=America/Sao_Paulo:20251103T183000
DTEND;TZID=America/Sao_Paulo:20251201T213000
DTSTAMP:20260421T015403
CREATED:20241223T200344Z
LAST-MODIFIED:20241223T200345Z
UID:2740-1762194600-1764624600@pmisp.org.br
SUMMARY:Preparatorio CAPM LATAM - en línea - Lunes\, Miércoles y Viernes - Clase 03
DESCRIPTION:Detalles del Curso\nCarga horaria: 48 horas\nFormato: En línea\nClases: Lunes\, miércoles y viernes de 18:30 a 21:30 (UTC -5)\nInicio: 03 de Noviembre de 2024\nFinalización: 01 de Deciembre de 2024\nLa conclusión del preparatorio otorga 24 PDU’s\nLengua: Español (Clase y Materiales)\n\n\n\n \nCertified Associate in Project Management\nInformación General\nAl igual que la dirección de proyectos ha crecido en importancia y reconocimiento en todo el mundo\, también lo ha hecho la carrera y certificación en dirección de proyectos.\n \n\nLa certificación CAPM® fue creada para miembros del equipo y gerentes de proyecto que están comenzando en la profesión. Los estudiantes con educación secundaria completa también pueden certificarse.\n \nEsta certificación beneficia a profesionales de todas las áreas\, ya que demuestra el interés del profesional en adquirir conocimientos en procesos y terminología de dirección de proyectos. Los profesionales con habilidades en dirección de proyectos se encaminan hacia el liderazgo\, y la certificación CAPM® es una de las mejores formas de impulsar la carrera.\n\n\nUsted puede certificarse como CAPM® si es:\n• Miembro de un equipo de proyecto;\n• Practicante de dirección de proyectos con poca experiencia\, o recién iniciado en las actividades de dirección de proyectos;\n• Estudiante de pregrado o posgrado que tenga interés en dirección de proyectos.\n \nPara estar apto para realizar el examen de certificación\, el candidato debe cumplir con los siguientes requisitos:\n\n• Tener al menos educación secundaria completa y una experiencia mínima de 1500 horas como miembro de equipo de proyecto; O\n• Haber participado en al menos 23 horas de formación formal en gestión de proyectos. (El curso preparatorio cumpre este requisito)\n \nPara más información sobre la certificación CAPM\, haga clic aquí.
URL:https://pmisp.org.br/evento/preparatorio-capm-latam-en-linea-lunes-miercoles-y-viernes-clase-03/
CATEGORIES:Preparatórios
ATTACH;FMTTYPE=image/webp:https://pmisp.org.br/wp-content/uploads/2024/12/CAPM-ES.webp
ORGANIZER;CN="PMI%C2%AE S%C3%A3o Paulo Project Management Institute Cap%C3%ADtulo S%C3%A3o Paulo":MAILTO:treinamentos@pmisp.org.br
END:VEVENT
BEGIN:VEVENT
DTSTART;TZID=America/Sao_Paulo:20251103T190000
DTEND;TZID=America/Sao_Paulo:20251203T230000
DTSTAMP:20260421T015403
CREATED:20241223T200632Z
LAST-MODIFIED:20241223T200632Z
UID:2742-1762196400-1764802800@pmisp.org.br
SUMMARY:Preparatório CAPM Online - Segundas e Quartas - Turma 20
DESCRIPTION:Detalhes do Curso\nCarga horária: 40 horas\nFormato: Online\nAulas: Segundas e Quartas das 19:00 às 23:00\nInício: 03 de Novembro de 2025\nTérmino: 03 de Dezembro de 2025\nA conclusão do preparatório concede 24 PDU’s\nIdioma: Português (Aula e Materiais)\n \n\n \nCertified Associate in Project Management\nInformações Gerais\nDa mesma forma que o gerenciamento de projetos tem crescido ao redor do mundo em importância e reconhecimento\, assim também o é com a carreira e certificação em gerenciamento de projetos.\nA certificação CAPM® foi criada para membros de equipe e gerentes de projeto que estão começando na profissão. Estudantes com o ensino médio (2º Grau) completo também podem se certificar.\nEsta certificação beneficia profissionais de todas as áreas\, pois demonstra o interesse do profissional no ganho de conhecimentos em processos e terminologias de gerenciamento de projeto. Profissionais com habilidades em gerenciamento de projetos rumam a caminho da liderança\, e a certificação CAPM® é uma das melhores formas de alavancar a carreira.\n \nNa edição atual do curso CAPM do PMI SP\, oferecemos uma parte básica em fundamentos em gerenciamento de projetos em todas as nossas aulas\, o qual reforça e enriquece o entendimento\, permitindo ao aluno que não teve nenhum contato com gerenciamento de projetos\, obtenha o nivelamento de conhecimento necessário\, acumulando maior expertise e aumentando suas chances para passar na prova do CAPM em sua primeira tentativa\, como muitos dos nossos alunos tem experimentado ultimamente.\n\nNa outra mão\, o aluno aumenta suas chances de empregabilidades por ter praticado e exercitado por mais tempo nas aulas de CAPM. Oferecemos como cortesia acesso a um banco adicional de 300 questões divididos em 6 aulas de simulados para reforçar o conhecimento e ajudar ao aluno pegar ritmo de prova\, elevando sua preparação para o próximo nível de um gerente de projetos Jr\, dominando aspectos sobre projetos híbridos\, ágeis e preditivos com maior facilidade frentes aos desafios empresariais e de negócios aplicando Práticas de gestão já testadas do PMBoK\, Pratices Agile e outros.\n \nVocê pode se certificar CAPM® se for:\n• Membro de uma equipe de projeto;\n• Praticante de gerenciamento de projetos com pouca experiência\, ou recém-iniciado nas atividades de gerenciamento de projetos;\n• Estudante de graduação ou pós-graduação que tenha interesse em gerenciamento de projetos.\n \nPara estar apto a realizar a prova de certificação o candidato deverá preencher os seguintes requisitos:\n• Ter pelo menos o 2º grau completo e experiência mínima de 1500 horas como membro de equipe de projeto; OU\n• Ter participado de pelo menos 23 horas de treinamento formal em gerenciamento de projetos.\n \nMais informações sobre a certificação CAPM\, clique aqui.
URL:https://pmisp.org.br/evento/preparatorio-capm-online-segundas-e-quartas-turma-20/
CATEGORIES:Preparatórios
ATTACH;FMTTYPE=image/webp:https://pmisp.org.br/wp-content/uploads/2024/12/CAPM.webp
ORGANIZER;CN="PMI%C2%AE S%C3%A3o Paulo Project Management Institute Cap%C3%ADtulo S%C3%A3o Paulo":MAILTO:treinamentos@pmisp.org.br
END:VEVENT
BEGIN:VEVENT
DTSTART;TZID=America/Sao_Paulo:20251104T190000
DTEND;TZID=America/Sao_Paulo:20251211T220000
DTSTAMP:20260421T015403
CREATED:20241223T201125Z
LAST-MODIFIED:20241223T201126Z
UID:2746-1762282800-1765490400@pmisp.org.br
SUMMARY:FpGP - Formação em Prática de GP - Terças e Quintas - Turma 06
DESCRIPTION:Detalhes do Curso \nCarga Horária: 30 horas\nFormato: Online\nAulas: Terças e Quintas\, das 19:00 às 22:00\nInício: 04 de Novembro de 2025\nTérmino: 11 de Dezembro de 2025\nA conclusão do curso teórico e prático concede 30 PDU’s\nIdioma: Português (Aula e Materiais)\n \n\n\nFpGP – Formação em Práticas de Gerenciamento de Projetos\nSobre o treinamento\nA formação em prática de Gerenciamento de Projetos\, ensina gerentes funcionais\, gerentes de projetos e/ou analistas em gerenciamento de projetos a conseguirem desenvolver um projeto desde o início e a evoluir aplicando o PMBOK em seu dia a dia.\n \nPara muitas organizações que desejam transformações para prosperar na economia disruptiva de hoje\, trabalhando com projetos\, ter profissionais que dominem como transformar uma ideia em projeto executável\, conhecer sobre a execução do gerenciamento de projetos\, gera uma vantagem competitiva para sua operação e garante uma melhora em sua própria “maneira de trabalhar”.\n \n\nLeve seu conhecimento e experiência em gerenciamento de projetos para o próximo nível. Treine as equipes sobre como aplicar e otimizar o uso em toda a empresa.\n\nInteligência Artificial Aplicada a Projetos\n\nQuer aprender Inteligência Artificial aplicada a projetos na Prática?\n\nEm nosso treinamento de Formação Prática de Gerenciamento de Projetos (FpGP) no PMI-SP\, você aprende a utilizar a inteligência artificial em projetos na prática\, usando ferramentas como infinity.pmi.org e o ChatGPT da OpenAI aliado ao contexto de negócios\, business agility e outras ferramentas.\n\nUtilizamos em todos os 10 encontros a Inteligência Artificial\, pautados nas principais áreas do Gerenciamento de Portfólio\, Programas (Novo)\, Business Requeriments (Novo)\, PMBOK 7ed.\, Guia de Processos (Novo) e Guia Ágil. O curso é totalmente novo\, moderno\, pensado\, elaborado e entregue para a comunidade de gerentes de projetos\, como resposta aos inúmeros desafios desta brilhante carreira.\n \nAprenda nas aulas a resolver problemas reais\, aplicando em casos de uso real. Você aprende\, reflete e pivota\, tornando-se um profissional mais completo e desejado pelas empresas.\n\n\n\nPara quem é esse curso\n\n• Qualquer profissional ou especialista que deseje implementar projetos ou alguém que queira aprender sobre como criar um projeto. O candidato pode ser de qualquer domínio e o curso não está restrito a TI ou a um domínio específico.\n• Se você está procurando treinamento em práticas em gerenciamento de projetos com treinadores experientes e altamente qualificados do PMI-SP que podem te ajudar a melhorar na condução de projetos.\n• O curso de formação em práticas de gerenciamento de projetos auxilia caso tenha um conhecimento profundo do PMBOK\, de suas ferramentas e das centenas de práticas e estratégias que ele contém – seria importante\, mas não obrigatório.\n \n\n\n\nClique para saber mais sobre cursos como: CAPM\, PMP\, PgMP\, PfMP\, ACP\, DASM\, DASSM e muito mais.\n\n\nRecursos de treinamento\n• Apostila com a teoria e prática em plataformas de colaboração\n• Instrutor PMI®️ Certificado CAPM ou PMP em sala \n• Treinamento on-line ao vivo\n• Conteúdo do curso de alta qualidade pelo PMI e PMI-SP\n• Certificado de conclusão do curso\n• Aulas convenientes (opções para fins de semana e dias de semana)\n\n\nPré-aula\n• A cada aula tem um documento sobre a Pré-aula de 1 hora para que o aluno se prepare para a aula\, tomando conhecimento da abordagem\, bibliografias\, esquemas\, planilhas\, esclarecimentos técnicos e básicos sobre o que será abordado na aula\, e considera-se que o aluno tenha esse compromisso de leitura.\n• Ao matricular-se o aluno participará de um grupo de Whatsapp e será assistido pelo GP do curso\, podendo obter esclarecimentos sobre a pré-aula\, aula e pós-aula. 
URL:https://pmisp.org.br/evento/fpgp-formacao-em-pratica-de-gp-tercas-e-quintas-turma-06/
CATEGORIES:Treinamentos PMI São Paulo
ATTACH;FMTTYPE=image/webp:https://pmisp.org.br/wp-content/uploads/2024/12/FPGP.webp
ORGANIZER;CN="PMI%C2%AE S%C3%A3o Paulo Project Management Institute Cap%C3%ADtulo S%C3%A3o Paulo":MAILTO:treinamentos@pmisp.org.br
END:VEVENT
BEGIN:VEVENT
DTSTART;TZID=America/Sao_Paulo:20251202T080000
DTEND;TZID=America/Sao_Paulo:20251203T180000
DTSTAMP:20260421T015403
CREATED:20250926T023238Z
LAST-MODIFIED:20250926T023703Z
UID:3253-1764662400-1764784800@pmisp.org.br
SUMMARY:PMI SP SUMMIT 2025
DESCRIPTION:O PMI São Paulo Summit 2025\, a 23ª edição do tradicional seminário internacional de gerenciamento de projetos promovido pelo PMI São Paulo. O evento acontecerá nos dias 2 e 3 de dezembro de 2025\, no Transamerica Expo Center\, em São Paulo\, e reunirá profissionais\, palestrantes e especialistas de renome nacional e internacional em dois dias de muita troca\, conhecimento e networking. \nNeste ano\, o tema será “M.O.R.E – Do Projeto ao Impacto”\, um convite à reflexão sobre como os projetos podem gerar valor real e duradouro para organizações e para a sociedade. A sigla M.O.R.E representa os quatro pilares que nortearão os conteúdos desta edição: \nManage Perceptions (Gerenciar Percepções): O sucesso de um projeto está diretamente ligado à forma como seus principais stakeholders — clientes\, executivos e parceiros — percebem o valor gerado em relação aos recursos investidos. \nExpand Perspective (Expandir Perspectivas): Os projetos não existem isoladamente. Eles impactam negócios\, pessoas e o mundo. Por isso\, é essencial ampliar o olhar e considerar o impacto além do escopo imediato. \nDeliver Results (Entregar Resultados): O foco deve estar em alcançar entregas consistentes\, mensuráveis e relevantes\, que contribuam com os objetivos estratégicos das organizações. \nElevate Experience (Elevar a Experiência): Projetos também são feitos de pessoas. Criar experiências significativas e conectadas ao propósito fortalece equipes e engaja stakeholders. \nEsses pilares irão guiar todas as trilhas temáticas do evento\, com conteúdos cuidadosamente pensados para diferentes perfis de profissionais — de iniciantes a especialistas. \nPrepare-se para uma experiência repleta de aprendizados\, conexões e histórias inspiradoras.
URL:https://pmisp.org.br/evento/pmi-sp-summit-2025/
LOCATION:Transamerica Expo Center\, Av. Dr. Mário Vilas Boas Rodrigues\, 387 - Santo Amaro\, São Paulo\, São Paulo\, 04757-020\, Brazil
ORGANIZER;CN="PMI SP SUMMIT":MAILTO:summit@pmisp.org.br
END:VEVENT
BEGIN:VEVENT
DTSTART;TZID=America/Sao_Paulo:20260406T190000
DTEND;TZID=America/Sao_Paulo:20260429T230000
DTSTAMP:20260421T015403
CREATED:20260316T123646Z
LAST-MODIFIED:20260316T123646Z
UID:3328-1775502000-1777503600@pmisp.org.br
SUMMARY:Preparatório Oficial PMI® – Disciplined Agile Foundation (DAF)
DESCRIPTION:Treinamento oficial realizado pelo PMI São Paulo\, com foco na introdução prática ao Disciplined Agile® (DA) — o toolkit híbrido do PMI que orienta equipes e organizações a definir a melhor maneira de trabalhar (Way of Working – WoW) de acordo com seu contexto. \nO curso apresenta os fundamentos da mentalidade Disciplined Agile\, explorando práticas que combinam abordagens ágil\, lean\, preditiva e híbrida\, permitindo que equipes aumentem sua eficácia\, adaptem seus fluxos de trabalho e acelerem a entrega de valor. \nDurante o treinamento\, os participantes irão: \n\nCompreender os princípios e a mentalidade do Disciplined Agile\nExplorar o DA Browser e a Knowledge Base do DA\nAplicar ferramentas como Team Canvas\, Quick Starts e Value Acceleration Process\nAprender a personalizar o Way of Working (WoW) de equipes e organizações\nAnalisar cenários reais de melhoria da agilidade organizacional\n\nO treinamento utiliza dinâmicas práticas\, estudos de caso e ferramentas colaborativas\, permitindo que os participantes experimentem a aplicação das práticas Disciplined Agile em contextos reais.
URL:https://pmisp.org.br/evento/preparatorio-oficial-pmi-disciplined-agile-foundation-daf/
ORGANIZER;CN="PMI%C2%AE S%C3%A3o Paulo Project Management Institute Cap%C3%ADtulo S%C3%A3o Paulo":MAILTO:treinamentos@pmisp.org.br
END:VEVENT
BEGIN:VEVENT
DTSTART;TZID=America/Sao_Paulo:20260418T083000
DTEND;TZID=America/Sao_Paulo:20260509T173000
DTSTAMP:20260421T015403
CREATED:20260316T193609Z
LAST-MODIFIED:20260316T193609Z
UID:3330-1776501000-1778347800@pmisp.org.br
SUMMARY:Preparatório CAPM Online - Sábado - Turma 22
DESCRIPTION:Preparatório CAPM® – Turma Online Sábado | PMI São Paulo \nTreinamento preparatório para a certificação CAPM® (Certified Associate in Project Management) realizado pelo PMI São Paulo – Vice-Presidência de Desenvolvimento Profissional (VpDP) por meio do Authorized Training Partner (ATP). \nO curso foi desenvolvido para profissionais em início de carreira ou interessados em ingressar na área de gestão de projetos\, oferecendo uma base estruturada dos fundamentos\, conceitos e práticas essenciais da disciplina de gerenciamento de projetos\, alinhados ao conteúdo do exame CAPM®. \nDurante o treinamento\, os participantes irão:\nCompreender os fundamentos do gerenciamento de projetos conforme as práticas do PMI\nEstruturar um plano de estudos para preparação para o exame CAPM®\nExplorar conceitos\, termos e abordagens utilizadas em projetos\nAplicar exemplos práticos para reforçar o entendimento do conteúdo\nDesenvolver uma base sólida para evolução na carreira em gestão de projetos
URL:https://pmisp.org.br/evento/preparatorio-capm-online-sabado-turma-22/
END:VEVENT
BEGIN:VEVENT
DTSTART;TZID=America/Sao_Paulo:20260422T190000
DTEND;TZID=America/Sao_Paulo:20260525T220000
DTSTAMP:20260421T015403
CREATED:20260316T193755Z
LAST-MODIFIED:20260316T193755Z
UID:3332-1776884400-1779746400@pmisp.org.br
SUMMARY:Curso PMI-SP - FpGP - Formação em Prática de GP - Segundas e Quartas - Turma 05
DESCRIPTION:FpGP – Formação em Práticas de Gerenciamento de Projetos\nRealização: PMI São Paulo \nA Formação em Práticas de Gerenciamento de Projetos (FpGP) é um programa educacional desenvolvido pelo PMI São Paulo para profissionais que desejam aprender na prática como transformar ideias em projetos executáveis\, aplicando conceitos modernos de gestão de projetos baseados no PMBOK® e nas práticas atuais da profissão. \nO curso combina fundamentos de gerenciamento de projetos com aplicação prática e uso de ferramentas modernas\, incluindo Inteligência Artificial aplicada à gestão de projetos\, permitindo que profissionais desenvolvam uma abordagem atual e alinhada às necessidades das organizações. \nDurante o treinamento\, os participantes irão desenvolver competências para: \n• Estruturar projetos desde a concepção até a execução\n• Aplicar práticas modernas de gerenciamento de projetos\n• Utilizar ferramentas de Inteligência Artificial para apoio à gestão de projetos\n• Trabalhar com conceitos de portfólio\, programas e projetos\n• Desenvolver visão estratégica para geração de valor por meio de projetos \nO treinamento aborda temas essenciais como gestão de stakeholders\, business case\, alinhamento estratégico\, gestão de portfólio\, transformação de ideias em projetos executáveis e produtividade com plataformas e automação. \nAs aulas incluem exercícios práticos\, estudos de caso e aplicação de ferramentas colaborativas\, permitindo que os participantes desenvolvam habilidades aplicáveis em seus ambientes profissionais.
URL:https://pmisp.org.br/evento/curso-pmi-sp-fpgp-formacao-em-pratica-de-gp-segundas-e-quartas-turma-05/
END:VEVENT
BEGIN:VEVENT
DTSTART;TZID=America/Sao_Paulo:20260422T193000
DTEND;TZID=America/Sao_Paulo:20260422T230000
DTSTAMP:20260421T015403
CREATED:20260316T194652Z
LAST-MODIFIED:20260316T194652Z
UID:3342-1776886200-1776898800@pmisp.org.br
SUMMARY:Happy Hour PMI São Paulo Branch Sorocaba
DESCRIPTION:Tema: Neurociência na Gestão de Projetos\nData: 22/04/2026\, a partir das 19:30\nLocal: Salomé Bar Santa Rosália | Evento com quantidade de vagas limitadas\nPalestrante: Bruno Lourenço\nResumo do palestrante: Bruno Lourenço é membro do Project Management Institute – Capítulo São Paulo e atua na disseminação de boas práticas em gerenciamento de projetos. É Gerente de Projetos certificado PMP® e especialista em gestão de projetos\, programas e portfólio. Desde 2017\, é professor convidado da Fundação Getúlio Vargas (FGV) em programas de educação executiva. Atualmente trabalha com gestão de projetos\, contratos e iniciativas de eficiência operacional na KAEFER RIP.
URL:https://pmisp.org.br/evento/happy-hour-pmi-sao-paulo-branch-sorocaba/
END:VEVENT
BEGIN:VEVENT
DTSTART;TZID=America/Sao_Paulo:20260504T190000
DTEND;TZID=America/Sao_Paulo:20260608T223000
DTSTAMP:20260421T015403
CREATED:20260316T193926Z
LAST-MODIFIED:20260316T193926Z
UID:3334-1777921200-1780957800@pmisp.org.br
SUMMARY:Preparatório Oficial PMP® Online - Segundas e Quartas - Turma 64
DESCRIPTION:Preparatório Oficial PMP® – Turma 64 | PMI São Paulo \nTreinamento preparatório para a certificação PMP® (Project Management Professional) realizado pelo PMI São Paulo – Vice-Presidência de Desenvolvimento Profissional (VpDP) por meio do Authorized Training Partner (ATP). \nO curso foi desenvolvido para profissionais com experiência em gestão de projetos que desejam se preparar de forma estruturada para o exame PMP®\, compreendendo os principais domínios\, conceitos e abordagens cobrados na certificação. \nDurante o treinamento\, os participantes irão: \n• Revisar os conceitos fundamentais de gerenciamento de projetos conforme as práticas do PMI\n• Compreender os domínios do exame PMP® e sua aplicação prática\n• Estruturar um plano de estudos para preparação para a certificação\n• Aplicar conceitos por meio de exercícios e exemplos práticos\n• Fortalecer sua preparação para o exame PMP® e evolução profissional na área de projetos \n📍 Formato:\nTreinamento online ao vivo via Zoom \n📅 Aulas:\nSegundas e Quartas \nDisclaimers institucionais \nEste curso é preparatório e educacional e não garante aprovação no exame PMP®. \nPMP® e PMI® são marcas registradas do Project Management Institute\, Inc. \nA inscrição no treinamento não inclui taxa de exame\, filiação ao PMI Global ou outros serviços externos eventualmente aplicáveis. \nSugestões de títulos de anúncios \nPreparatório PMP® Online – Turma 64\nTreinamento PMP® Oficial – ATP PMI São Paulo\nPrepare-se para a certificação PMP®\nPMP®: preparação estruturada para certificação\nCurso Preparatório PMP® Online \nSugestões de assuntos de e-mail \nNova turma PMP® – inscrições abertas\nPreparatório PMP® Online – Segundas e Quartas\nPrepare-se para a certificação PMP®\nPMP®: organize sua preparação para o exame\nCurso PMP® ATP PMI São Paulo
URL:https://pmisp.org.br/evento/preparatorio-oficial-pmp-online-segundas-e-quartas-turma-64/
END:VEVENT
BEGIN:VEVENT
DTSTART;TZID=America/Sao_Paulo:20260505T193000
DTEND;TZID=America/Sao_Paulo:20260528T223000
DTSTAMP:20260421T015403
CREATED:20260316T194054Z
LAST-MODIFIED:20260316T194054Z
UID:3336-1778009400-1780007400@pmisp.org.br
SUMMARY:Preparatório Oficial PMI-PMOCP - Project Management Office Certified Professional
DESCRIPTION:Preparatório Oficial PMI-PMOCP® – Project Management Office Certified Professional \nTreinamento preparatório realizado pelo PMI São Paulo\, em parceria com capítulos brasileiros do PMI (PMI RS\, PMI RJ\, PMI BA\, PMI ES\, PMI MG\, PMI PB\, PMI SC e PMI DF)\, voltado ao desenvolvimento de profissionais que desejam liderar\, estruturar ou evoluir Escritórios de Gerenciamento de Projetos (PMOs). \nA certificação PMI-PMOCP® foi criada para validar competências de profissionais experientes que atuam ou desejam atuar em PMOs estratégicos\, fortalecendo sua capacidade de criar\, apoiar e otimizar estruturas de governança de projetos orientadas à geração de valor organizacional. \nO curso aborda conceitos e práticas fundamentais para atuação em PMOs modernos\, incluindo: \n• Estruturação e governança de PMO\n• Alinhamento estratégico entre projetos e objetivos organizacionais\n• Desenvolvimento e operação de serviços de PMO\n• Monitoramento\, melhoria contínua e geração de valor organizacional\n• Liderança e gestão de equipes em ambientes de projetos \nO treinamento é baseado no Framework PMO Value Ring\, modelo estratégico do PMI apresentado no guia Project Management Offices: A Practice Guide\, que orienta o desenvolvimento de PMOs orientados à entrega de valor.
URL:https://pmisp.org.br/evento/preparatorio-oficial-pmi-pmocp-project-management-office-certified-professional/
END:VEVENT
BEGIN:VEVENT
DTSTART;TZID=America/Sao_Paulo:20260518T190000
DTEND;TZID=America/Sao_Paulo:20260610T220000
DTSTAMP:20260421T015403
CREATED:20260316T194429Z
LAST-MODIFIED:20260316T194429Z
UID:3340-1779130800-1781128800@pmisp.org.br
SUMMARY:Curso Inteligência Artificial Generativa para Gestão de Projetos - T07
DESCRIPTION:Curso de Inteligência Artificial para Gestão de Projetos \nTreinamento realizado pelo PMI São Paulo voltado para profissionais que desejam desenvolver competências práticas na aplicação de Inteligência Artificial (IA) na gestão de projetos. \nO curso combina fundamentos conceituais e aplicações práticas de IA generativa e automação\, permitindo que profissionais de projetos aprendam a utilizar ferramentas modernas para otimizar processos\, apoiar a tomada de decisão e aumentar a eficiência na gestão de projetos. \nDurante o treinamento\, os participantes irão explorar aplicações práticas de IA em cenários reais de gerenciamento de projetos\, incluindo automação de processos\, geração de relatórios\, análise de dados e previsibilidade de riscos. \nAs aulas incluem atividades práticas com ferramentas amplamente utilizadas no mercado\, como: \n• ChatGPT e outras plataformas de IA generativa\n• Power Automate para automação de processos\n• Airtable e plataformas de organização de dados\n• Ferramentas de visualização e análise de dados\n• Construção de prompts e aplicações no-code para gestão de projetos \nO curso foi estruturado para proporcionar uma experiência prática\, permitindo que os participantes desenvolvam projetos aplicados e soluções baseadas em IA para desafios reais da gestão de projetos.
URL:https://pmisp.org.br/evento/curso-inteligencia-artificial-generativa-para-gestao-de-projetos-t07/
END:VEVENT
BEGIN:VEVENT
DTSTART;TZID=America/Sao_Paulo:20260518T190000
DTEND;TZID=America/Sao_Paulo:20260617T223000
DTSTAMP:20260421T015403
CREATED:20260316T194257Z
LAST-MODIFIED:20260316T194257Z
UID:3338-1779130800-1781735400@pmisp.org.br
SUMMARY:Preparatório PMI-ACP Online - Segundas e Quartas - Turma 31
DESCRIPTION:Preparatório Oficial PMI-ACP® – Agile Certified Practitioner \nTreinamento oficial realizado pelo PMI São Paulo\, em parceria com capítulos brasileiros do PMI (PMI BA\, PMI ES\, PMI MG\, PMI PB\, PMI RJ\, PMI SC e PMI RS)\, voltado para profissionais que desejam aprofundar conhecimentos em abordagens ágeis e se preparar para a certificação PMI-ACP®. \nA certificação PMI-ACP® (Agile Certified Practitioner) reconhece profissionais que possuem experiência prática em métodos ágeis e que dominam diferentes abordagens para desenvolvimento e entrega de valor em projetos\, incluindo Scrum\, Kanban\, Lean\, XP e práticas híbridas. \nO curso aborda conceitos fundamentais de agilidade e práticas utilizadas por equipes de alto desempenho\, com foco em entrega de valor\, colaboração entre equipes e stakeholders\, adaptação contínua e melhoria constante dos processos. \nDurante o treinamento\, os participantes irão explorar as principais áreas de conhecimento cobradas no exame PMI-ACP®\, incluindo: \n• Princípios e Mindset Ágil\n• Entrega Orientada a Valor\n• Engajamento de Stakeholders\n• Desempenho da Equipe\n• Planejamento Adaptativo\n• Detecção e Resolução de Problemas\n• Melhoria Contínua \nAs aulas abordam os conteúdos seguindo o ciclo de vida do gerenciamento de projetos\, conectando conceitos ágeis com práticas aplicáveis no ambiente organizacional. \nO curso também inclui exercícios práticos e simulados\, auxiliando na preparação para o exame e no fortalecimento das competências profissionais em ambientes ágeis.
URL:https://pmisp.org.br/evento/preparatorio-pmi-acp-online-segundas-e-quartas-turma-31/
END:VEVENT
END:VCALENDAR