BEGIN:VCALENDAR
VERSION:2.0
PRODID:-//PMI® São Paulo - ECPv6.15.20//NONSGML v1.0//EN
CALSCALE:GREGORIAN
METHOD:PUBLISH
X-WR-CALNAME:PMI® São Paulo
X-ORIGINAL-URL:https://pmisp.org.br
X-WR-CALDESC:Eventos para PMI® São Paulo
REFRESH-INTERVAL;VALUE=DURATION:PT1H
X-Robots-Tag:noindex
X-PUBLISHED-TTL:PT1H
BEGIN:VTIMEZONE
TZID:America/Sao_Paulo
BEGIN:STANDARD
TZOFFSETFROM:-0300
TZOFFSETTO:-0300
TZNAME:-03
DTSTART:20230101T000000
END:STANDARD
END:VTIMEZONE
BEGIN:VEVENT
DTSTART;TZID=America/Sao_Paulo:20240923T190000
DTEND;TZID=America/Sao_Paulo:20240926T230000
DTSTAMP:20260422T071137
CREATED:20240624T165650Z
LAST-MODIFIED:20240829T203955Z
UID:989-1727118000-1727391600@pmisp.org.br
SUMMARY:Workshop OKR + Certificação OKR Agile Coach - PMI São Paulo em parceria com a FIXE - Turma 22
DESCRIPTION:Detalhes do Curso\nCarga Horária: 16 horas\nFormato: Online\nAulas: Segunda-feira à Quinta-feira\, das 19h às 23h\nA conclusão do preparatório concede 16 PDU’s\nIdioma: Português (Aula e Materiais)\n \n\n \nCapacitação Intensiva Teórico-Prática!\n \nAprenda o mais famoso método de Gestão de Resultados e melhore a performance da sua empresa para sempre.\n \nOportunidade de realizar uma Imersão Intensiva em OKR que habilitará você para obter seu Certificado de OKR Agile Coach pela FIXE.\n \nPara quem é esse Workshop?\nDirecionado para:\n• Equipes de Escritórios de Projetos;\n• Equipes de Escritórios de Processos;\n• Gerentes de Portfolio\, Programas e Projetos;\n• Equipes de Planejamento Estratégico;\n• Responsáveis de Transformação Digital;\n• Responsáveis de Transformação Ágil;\n• Diretores de Projetos e de Planejamento Estratégico\n \nE Líderes em geral que queiram:\n• Ser parte fundamental no processo de Transformação Corporativa;\n• Atuar como Agente de Mudanças para reduzir a curva de aprendizado;\n• Mudar a Cultura Organizacional tornando a empresa mais competitiva e ágil;\n• Tornar o processo de definição de metas mais simples\, reduzindo drasticamente o tempo e os recursos necessários;\n• Trabalhar com colaboradores mais engajados\, colocando esforço no que é mais importante e com foco nos resultados;\n• Ter uma visão mais clara do que está sendo executado e os passos necessários para o alcance dos objetivos organizacionais.\n \nAo Participar do Workshop você terá acesso a:\n• 3 Aulas de Conceito incluindo boas práticas\, tópicos avançados e estratégias de implantação;\n• 3 Cases de Sucesso implementados pela Maria Angélica Castellani e com depoimentos dos responsáveis pelas empresas onde foram implantados;\n• 7 Atividades Práticas com destaque para o OKR Discovery Game® com 4 horas de duração;\n• 1 Grupo Exclusivo de WhatsApp para estudos\, troca de experiências e networking;\n• 5 Mentorias em Grupo exclusivas para alunos da Fixe\, com temas variados sobre OKRs;\n• Materiais Exclusivos: eBooks\, Planilhas\, Apresentações;\n• Certificado Reconhecido no Mercado\, Sujeito a 75% de aprovação.\n \nPor que você precisa conhecer OKR\n• OKR (Objectives & Key Results) é considerado o framework Ágil de gestão de resultados;\n• Foi o responsável do crescimento exponencial do Google\, que passou de 40 colaboradores para mais de 100 mil hoje;\n• Foi adotado pelo Twitter\, Facebook\, Linkedin\, Uber\, Airbnb\, Microsoft\, Samsung\, Netflix\, Oracle\, Amazon\, Spotify\, Adobe e muitas outras;\n• A sua utilização começou na Intel e depois se expandiu para a Silicon Valley;\n• Hoje é amplamente utilizado desde startups até grandes empresas no mundo todo;\n• É uma nova oportunidade para realizar a sua gestão de resultados de forma efetiva e eficaz.\n \nO que você aprenderá na prática\n• Entenderá as diferenças entre OKRs\, KPIs e outros sistemas de metas;\n• Aprenderá como escrever bons Objetivos e Resultados Chave;\n• Entenderá a Integração dos OKRs Estratégicos\, Táticos e Operacionais;\n• Dominará na prática todo o ciclo de vida dos OKRs;\n• Conhecerá o que é a cadência tripla e as melhores técnicas de implantação;\n• Aprenderá com os erros\, acertos e boas práticas que não estão nos livros;\n• Conhecerá modelos de planilhas para monitoramento;\n• A utilizar o ChatGPT como alavanca para a estruturação e a definição dos OKRs.\n \nA Facilitadora\nMaria Angélica Castellani\nVantagens Desta Imersão Intensiva\nParticipe deste Workshop 100% prático e lúdico\, onde utilizamos as mais modernas técnicas de ensino baseadas na neuroaprendizagem. E você ainda terá acesso a:\n• Acesso a uma Certificação OKR Agile Coach\n• Imersão intensiva no conhecimento teórico prático dos OKR\n• Utilização de um Game exclusivo: OKR Discovery Game®\n• Conhecer a diferença entre os OKRs estratégicos\, táticos e operacionais\n• Aprender a identificar e a mensurar os Benefícios Tangíveis para crescimento organizacional\n• Entender como os OKRs e os KPIs vão de mãos dadas\n \nSeja um expert em Transformação Organizacional e OKR Agile Coach Certificado.\nSe está disposto a enfrentar esses desafios e dar um UP na sua carreira profissional\, não pode perder!\n \nNossa Garantia\nRisco Zero!\nCaso não tenha assimilado os conceitos passados durante o workshop\, poderá participar sem custo do próximo workshop.\n \nAdicionais Exclusivos\nSó o conteúdo do workshop intensivo de OKR e KPI já seria suficiente para você assumir um programa de implantação de OKR na sua empresa\, mas para garantir o sucesso desse projeto receberá os seguintes adicionais GRATUITOS:\n• Mentorias Gratuitas: Acesso a mentorias exclusivas para ex-alunos em grupos on-line e ao vivo!!\n• Certificação OKR Agile Coach: Este é um treinamento oficial da FIXE e não exige avaliação. Para obter sua certificação deve participar de forma efetiva nos dias do workshop. Valor: Gratuito\n• Bibliografia: Sugestões de leitura\, E-book exclusivo com exemplos de OKR.\n• Complementos: Tópicos avançados\, estratégia de implantação e Casos de Sucesso\n• Acesso Gratuito a nosso Grupo de WhatsApp para estudo ou Networking. Valor: Incalculável\n• 16 hs / 16 PDUs / 16 SEUs\n \nOKR Discovery Game® + AI (ChatGPT\, Bard\, Bing)\nA tecnologia mais poderosa do mundo já está presente no Workshop OKR.\nNo OKR Discovery Game® aprenderá na prática como a Inteligência Artificial está mudando o mundo dos negócios.\nO OKR Discovery Game® simula um ambiente organizacional e promove a vivência do aluno nos OKR.\nUtilizando a AI você criará uma estratégia para o cenário apresentado e aprenderá como escrever corretamente os OKRs relacionados.\n\nVenha agora jogar conosco para mudar o destino da sua empresa através dos OKRs.\n \n\n 
URL:https://pmisp.org.br/evento/workshop-okr-certificacao-okr-agile-coach-pmi-sao-paulo-em-parceria-com-a-fixe-turma-22/
CATEGORIES:Treinamentos em Parceria
ATTACH;FMTTYPE=image/jpeg:https://pmisp.org.br/wp-content/uploads/2024/06/Workshop-OKR-Certificacao-OKR-Agile-Coach-PMI-Sao-Paulo-em-parceria-com-a-FIXE-Turma-21-e1722341219922.jpeg
ORGANIZER;CN="PMI%C2%AE S%C3%A3o Paulo Project Management Institute Cap%C3%ADtulo S%C3%A3o Paulo":MAILTO:treinamentos@pmisp.org.br
END:VEVENT
BEGIN:VEVENT
DTSTART;TZID=America/Sao_Paulo:20240916T190000
DTEND;TZID=America/Sao_Paulo:20240926T210000
DTSTAMP:20260422T071137
CREATED:20240624T145954Z
LAST-MODIFIED:20240822T224206Z
UID:941-1726513200-1727384400@pmisp.org.br
SUMMARY:Curso Citizen Developer Fundamentos: Torne-se um Agente de Transformação Digital - T04 - Reagendado
DESCRIPTION:Detalhes do Curso \nCarga Horária: 16 horas\nFormato: Online Síncrona\nAulas: Segundas às Quintas Feiras\, das 19:00 às 21:00\nA conclusão do treinamento concede 16 PDU’s\n\n\n\nSobre o Curso\nDescubra o poder do Desenvolvimento Cidadão (Citizen Development) com nosso curso certificado\, desenhado para desbloquear o potencial de inovação e automação dentro da sua organização. O “Transforme-se em um Agente de Inovação Digital” não é apenas um curso; é uma jornada de capacitação que prepara profissionais de todas as áreas para liderarem a transformação digital através do desenvolvimento de aplicativos customizados sem a necessidade de codificação profunda.\n\n\n\n\nSão profissionais de qualquer área de negócio que criam aplicativos customizados usando ferramentas Low Code/ No Code para resolver os desafios encontrados na sua organização.\n\n\n\n\nÉ um ambiente de desenvolvimento de software por meio do visual\, super intuitivo! Permite que o Citizen Developer arraste componentes\, conectá-los e criar aplicativos de smartphone ou web aplicados\, no caso\, a solução de problemas da organização.\n\n\nFase teórica:\nIntrodução ao Citizen Development\n\nO que é o desenvolvimento cidadão e por que é importante.\nOs benefícios do Citizen Development.\nQuem são os desenvolvedores cidadãos – Citizen Developers?\nO papel do desenvolvimento cidadão (Citizen Development) no mundo dos negócios atual.\n\n\nVisão Geral do Citizen Development Canvas\n\nPropósito do Citizen Development Canvas.\nComo planejar soluções eficazes sendo um Citizen Developer?\n\n\nIdeação 2.0\n\nO que é Ideação 2.0 e por que é valioso?\nMetodologias para gerar ideias inovadoras que atendem diretamente às necessidades da sua organização.\nEstratégias para identificar desafios organizacionais e aplicar soluções de Desenvolvimento Cidadão efetivas.\n\n\nFase prática:\nIntrodução a ambientes NoCode e Inteligência Artificial:\n\nVisão geral do Office 365 e seus principais recursos.\nUso eficaz do OneDrive e SharePoint para armazenamento e colaboração de arquivos.\nIntrodução ao AppSheet no Google WS.\nComo envolver a Inteligência Artificial para otimizar seus resultados em projetos hiperágeis sendo um Desenvolvedor Cidadão.\n\n\nIntrodução ao Power Platform e Bubble:\n\nApresentação da Power Platform e suas principais ferramentas: Power Apps\, Power Automate\, Power BI e Power Virtual Agents\nExploração dos recursos e benefícios de cada componente da Power Platform\nDemonstração de como criar aplicativos personalizados\, automatizar fluxos de trabalho\, visualizar dados e criar chatbots\n\n\nAplicando Gestão de Projeto dentro de plataformas NoCode e Casos Reais:\n\nDesenvolverá mini projetos utilizando plataformas Low Code/No Code como Bubble e Power Platform\, incluindo Power Automate.\nTrabalhará em casos reais do mercado\, aplicando soluções de Desenvolvimento Cidadão para resolver problemas complexos.\nAprenderá a realizar uma análise de requisitos eficaz para suas aplicações\, garantindo que elas atendam às necessidades da sua organização.\n\n\nBecome a Citizen Developer:\n\nExploração do papel do Citizen Developer na transformação digital\nDesenvolvimento de habilidades técnicas e conhecimentos necessários para se tornar um Citizen Developer\nMelhores práticas para a criação de soluções de negócios eficazes\nEmpoderamento para impulsionar a inovação e a automação dentro da organização\n\n\n\nCertificação de Conclusão\nAo final do curso\, os participantes receberão uma certificação do curso\, reconhecendo suas habilidades e conhecimentos adquiridos como Desenvolvedores Cidadãos. Esta certificação não apenas valida sua experiência prática\, mas também destaca seu comprometimento em impulsionar a inovação e a eficiência dentro de sua organização.\n\nPor Que Participar?\nSe você deseja ser um pioneiro na transformação digital\, criando soluções digitais inovadoras sem a necessidade de conhecimento em codificação profunda\, e sabendo como gerir um ambiente de agilidade e todo o ecossistema que o impacta\, bem como saber como escalar seu projeto\, este curso é para você. Equipado com conhecimentos teóricos sólidos e experiência prática\, você estará preparado para liderar projetos de inovação digital e tecnologia\, tornando-se um valioso agente de mudança em sua organização.\n\n\n\n\n\n\n\nJoão H B Jacinto\, PMP®\, PMI CD-F®\, CD-BA®\, é um profissional especialista em gestão de projetos com experiência internacional em liderança de equipes e gestão de projetos em diversas áreas.\n\nGustavo Moraes\, IPMA-D\, Microsoft Certified Trainer\, possui mais de 12 anos de experiência na área de Tecnologia como desenvolvedor full-stack\, especialista em plataformas Microsoft SharePoint e Microsoft 365.\n\nJunto com o PMI São Paulo\, estamos preparados para guiá-los na jornada da transformação digital. Esteja pronto para adquirir conhecimentos e habilidades práticas na Power Platform e se tornar um agente de mudança\, capacitado para impulsionar a transformação digital em projetos e se destacar no mundo atualmente orientado pela tecnologia.\n\n\n\nInscreva-se agora e esteja preparado para alcançar o sucesso em seus projetos\, aproveitando ao máximo os benefícios da transformação digital!
URL:https://pmisp.org.br/evento/curso-citizen-developer-fundamentos-torne-se-um-agente-de-transformacao-digital-t04/
CATEGORIES:Treinamentos em Parceria
ATTACH;FMTTYPE=image/webp:https://pmisp.org.br/wp-content/uploads/2024/06/download-6.webp
ORGANIZER;CN="PMI%C2%AE S%C3%A3o Paulo Project Management Institute Cap%C3%ADtulo S%C3%A3o Paulo":MAILTO:treinamentos@pmisp.org.br
END:VEVENT
BEGIN:VEVENT
DTSTART;TZID=America/Sao_Paulo:20240729T190000
DTEND;TZID=America/Sao_Paulo:20240801T230000
DTSTAMP:20260422T071137
CREATED:20240605T232725Z
LAST-MODIFIED:20240730T124518Z
UID:587-1722279600-1722553200@pmisp.org.br
SUMMARY:Workshop OKR + Certificação OKR Agile Coach - PMI São Paulo em parceria com a FIXE - Turma 21
DESCRIPTION:Detalhes do Curso: \n\nCarga Horária: 16 horas\nFormato: Evento Online via Zoom\nAulas: Segunda-feira à Quinta-feira\, das 19h às 23h\nA conclusão do preparatório concede 16 PDU’s\nIdioma: Português (Aula e Materiais)\n\nSobre o Evento\nParticipe do workshop online promovido pelo PMI São Paulo em parceria com a FIXE. Este evento é uma oportunidade única para aprimorar suas habilidades em definição e acompanhamento de metas utilizando a metodologia OKR (Objectives and Key Results) e obter a certificação OKR Agile Coach. \nO que você vai aprender:\n\nFundamentos de OKR: Entenda a origem\, os conceitos e os benefícios da metodologia OKR.\nDefinição de OKRs: Aprenda a definir objetivos claros e resultados-chave mensuráveis.\nImplementação de OKRs: Descubra como implementar OKRs de forma eficaz em sua organização.\nAcompanhamento e Revisão de OKRs: Domine técnicas para monitorar e revisar OKRs continuamente.\nCertificação OKR Agile Coach: Prepare-se para a certificação e destaque-se no mercado como um especialista em OKRs.\n\nPúblico-Alvo:\nEste workshop é ideal para profissionais de todas as áreas que desejam melhorar suas habilidades em gerenciamento de metas e resultados\, incluindo: \n\nGerentes de Projeto\nAgile Coaches\nLíderes de Equipe\nExecutivos e Diretores\nConsultores de Negócios\nProfissionais de RH\n\nBenefícios de Participar:\n\nAprendizado Prático: Aplicação prática dos conceitos de OKR em casos reais.\nCertificação Reconhecida: Obtenha a certificação OKR Agile Coach e impulsione sua carreira.\nNetworking: Conecte-se com outros profissionais e especialistas na área.\nMaterial de Apoio: Receba materiais exclusivos para aprofundar seu conhecimento.\n\nInscreva-se Agora!\nNão perca esta oportunidade de se capacitar e obter uma certificação reconhecida internacionalmente. Inscreva-se agora e leve suas habilidades de gerenciamento de metas e resultados para o próximo nível.
URL:https://pmisp.org.br/evento/workshop-okr-certificacao-okr-agile-coach-pmi-sao-paulo-em-parceria-com-a-fixe-turma-21/
CATEGORIES:Treinamentos em Parceria
ATTACH;FMTTYPE=image/jpeg:https://pmisp.org.br/wp-content/uploads/2024/06/Workshop-OKR-Certificacao-OKR-Agile-Coach-PMI-Sao-Paulo-em-parceria-com-a-FIXE-Turma-21-e1722341219922.jpeg
ORGANIZER;CN="PMI%C2%AE S%C3%A3o Paulo Project Management Institute Cap%C3%ADtulo S%C3%A3o Paulo":MAILTO:treinamentos@pmisp.org.br
END:VEVENT
END:VCALENDAR