BEGIN:VCALENDAR
VERSION:2.0
PRODID:-//PMI® São Paulo - ECPv6.15.20//NONSGML v1.0//EN
CALSCALE:GREGORIAN
METHOD:PUBLISH
X-WR-CALNAME:PMI® São Paulo
X-ORIGINAL-URL:https://pmisp.org.br
X-WR-CALDESC:Eventos para PMI® São Paulo
REFRESH-INTERVAL;VALUE=DURATION:PT1H
X-Robots-Tag:noindex
X-PUBLISHED-TTL:PT1H
BEGIN:VTIMEZONE
TZID:America/Sao_Paulo
BEGIN:STANDARD
TZOFFSETFROM:-0300
TZOFFSETTO:-0300
TZNAME:-03
DTSTART:20240101T000000
END:STANDARD
END:VTIMEZONE
BEGIN:VEVENT
DTSTART;TZID=America/Sao_Paulo:20251103T183000
DTEND;TZID=America/Sao_Paulo:20251201T213000
DTSTAMP:20260421T001554
CREATED:20241223T200344Z
LAST-MODIFIED:20241223T200345Z
UID:2740-1762194600-1764624600@pmisp.org.br
SUMMARY:Preparatorio CAPM LATAM - en línea - Lunes\, Miércoles y Viernes - Clase 03
DESCRIPTION:Detalles del Curso\nCarga horaria: 48 horas\nFormato: En línea\nClases: Lunes\, miércoles y viernes de 18:30 a 21:30 (UTC -5)\nInicio: 03 de Noviembre de 2024\nFinalización: 01 de Deciembre de 2024\nLa conclusión del preparatorio otorga 24 PDU’s\nLengua: Español (Clase y Materiales)\n\n\n\n \nCertified Associate in Project Management\nInformación General\nAl igual que la dirección de proyectos ha crecido en importancia y reconocimiento en todo el mundo\, también lo ha hecho la carrera y certificación en dirección de proyectos.\n \n\nLa certificación CAPM® fue creada para miembros del equipo y gerentes de proyecto que están comenzando en la profesión. Los estudiantes con educación secundaria completa también pueden certificarse.\n \nEsta certificación beneficia a profesionales de todas las áreas\, ya que demuestra el interés del profesional en adquirir conocimientos en procesos y terminología de dirección de proyectos. Los profesionales con habilidades en dirección de proyectos se encaminan hacia el liderazgo\, y la certificación CAPM® es una de las mejores formas de impulsar la carrera.\n\n\nUsted puede certificarse como CAPM® si es:\n• Miembro de un equipo de proyecto;\n• Practicante de dirección de proyectos con poca experiencia\, o recién iniciado en las actividades de dirección de proyectos;\n• Estudiante de pregrado o posgrado que tenga interés en dirección de proyectos.\n \nPara estar apto para realizar el examen de certificación\, el candidato debe cumplir con los siguientes requisitos:\n\n• Tener al menos educación secundaria completa y una experiencia mínima de 1500 horas como miembro de equipo de proyecto; O\n• Haber participado en al menos 23 horas de formación formal en gestión de proyectos. (El curso preparatorio cumpre este requisito)\n \nPara más información sobre la certificación CAPM\, haga clic aquí.
URL:https://pmisp.org.br/evento/preparatorio-capm-latam-en-linea-lunes-miercoles-y-viernes-clase-03/
CATEGORIES:Preparatórios
ATTACH;FMTTYPE=image/webp:https://pmisp.org.br/wp-content/uploads/2024/12/CAPM-ES.webp
ORGANIZER;CN="PMI%C2%AE S%C3%A3o Paulo Project Management Institute Cap%C3%ADtulo S%C3%A3o Paulo":MAILTO:treinamentos@pmisp.org.br
END:VEVENT
BEGIN:VEVENT
DTSTART;TZID=America/Sao_Paulo:20251103T190000
DTEND;TZID=America/Sao_Paulo:20251203T230000
DTSTAMP:20260421T001554
CREATED:20241223T200632Z
LAST-MODIFIED:20241223T200632Z
UID:2742-1762196400-1764802800@pmisp.org.br
SUMMARY:Preparatório CAPM Online - Segundas e Quartas - Turma 20
DESCRIPTION:Detalhes do Curso\nCarga horária: 40 horas\nFormato: Online\nAulas: Segundas e Quartas das 19:00 às 23:00\nInício: 03 de Novembro de 2025\nTérmino: 03 de Dezembro de 2025\nA conclusão do preparatório concede 24 PDU’s\nIdioma: Português (Aula e Materiais)\n \n\n \nCertified Associate in Project Management\nInformações Gerais\nDa mesma forma que o gerenciamento de projetos tem crescido ao redor do mundo em importância e reconhecimento\, assim também o é com a carreira e certificação em gerenciamento de projetos.\nA certificação CAPM® foi criada para membros de equipe e gerentes de projeto que estão começando na profissão. Estudantes com o ensino médio (2º Grau) completo também podem se certificar.\nEsta certificação beneficia profissionais de todas as áreas\, pois demonstra o interesse do profissional no ganho de conhecimentos em processos e terminologias de gerenciamento de projeto. Profissionais com habilidades em gerenciamento de projetos rumam a caminho da liderança\, e a certificação CAPM® é uma das melhores formas de alavancar a carreira.\n \nNa edição atual do curso CAPM do PMI SP\, oferecemos uma parte básica em fundamentos em gerenciamento de projetos em todas as nossas aulas\, o qual reforça e enriquece o entendimento\, permitindo ao aluno que não teve nenhum contato com gerenciamento de projetos\, obtenha o nivelamento de conhecimento necessário\, acumulando maior expertise e aumentando suas chances para passar na prova do CAPM em sua primeira tentativa\, como muitos dos nossos alunos tem experimentado ultimamente.\n\nNa outra mão\, o aluno aumenta suas chances de empregabilidades por ter praticado e exercitado por mais tempo nas aulas de CAPM. Oferecemos como cortesia acesso a um banco adicional de 300 questões divididos em 6 aulas de simulados para reforçar o conhecimento e ajudar ao aluno pegar ritmo de prova\, elevando sua preparação para o próximo nível de um gerente de projetos Jr\, dominando aspectos sobre projetos híbridos\, ágeis e preditivos com maior facilidade frentes aos desafios empresariais e de negócios aplicando Práticas de gestão já testadas do PMBoK\, Pratices Agile e outros.\n \nVocê pode se certificar CAPM® se for:\n• Membro de uma equipe de projeto;\n• Praticante de gerenciamento de projetos com pouca experiência\, ou recém-iniciado nas atividades de gerenciamento de projetos;\n• Estudante de graduação ou pós-graduação que tenha interesse em gerenciamento de projetos.\n \nPara estar apto a realizar a prova de certificação o candidato deverá preencher os seguintes requisitos:\n• Ter pelo menos o 2º grau completo e experiência mínima de 1500 horas como membro de equipe de projeto; OU\n• Ter participado de pelo menos 23 horas de treinamento formal em gerenciamento de projetos.\n \nMais informações sobre a certificação CAPM\, clique aqui.
URL:https://pmisp.org.br/evento/preparatorio-capm-online-segundas-e-quartas-turma-20/
CATEGORIES:Preparatórios
ATTACH;FMTTYPE=image/webp:https://pmisp.org.br/wp-content/uploads/2024/12/CAPM.webp
ORGANIZER;CN="PMI%C2%AE S%C3%A3o Paulo Project Management Institute Cap%C3%ADtulo S%C3%A3o Paulo":MAILTO:treinamentos@pmisp.org.br
END:VEVENT
BEGIN:VEVENT
DTSTART;TZID=America/Sao_Paulo:20251104T190000
DTEND;TZID=America/Sao_Paulo:20251211T220000
DTSTAMP:20260421T001554
CREATED:20241223T201125Z
LAST-MODIFIED:20241223T201126Z
UID:2746-1762282800-1765490400@pmisp.org.br
SUMMARY:FpGP - Formação em Prática de GP - Terças e Quintas - Turma 06
DESCRIPTION:Detalhes do Curso \nCarga Horária: 30 horas\nFormato: Online\nAulas: Terças e Quintas\, das 19:00 às 22:00\nInício: 04 de Novembro de 2025\nTérmino: 11 de Dezembro de 2025\nA conclusão do curso teórico e prático concede 30 PDU’s\nIdioma: Português (Aula e Materiais)\n \n\n\nFpGP – Formação em Práticas de Gerenciamento de Projetos\nSobre o treinamento\nA formação em prática de Gerenciamento de Projetos\, ensina gerentes funcionais\, gerentes de projetos e/ou analistas em gerenciamento de projetos a conseguirem desenvolver um projeto desde o início e a evoluir aplicando o PMBOK em seu dia a dia.\n \nPara muitas organizações que desejam transformações para prosperar na economia disruptiva de hoje\, trabalhando com projetos\, ter profissionais que dominem como transformar uma ideia em projeto executável\, conhecer sobre a execução do gerenciamento de projetos\, gera uma vantagem competitiva para sua operação e garante uma melhora em sua própria “maneira de trabalhar”.\n \n\nLeve seu conhecimento e experiência em gerenciamento de projetos para o próximo nível. Treine as equipes sobre como aplicar e otimizar o uso em toda a empresa.\n\nInteligência Artificial Aplicada a Projetos\n\nQuer aprender Inteligência Artificial aplicada a projetos na Prática?\n\nEm nosso treinamento de Formação Prática de Gerenciamento de Projetos (FpGP) no PMI-SP\, você aprende a utilizar a inteligência artificial em projetos na prática\, usando ferramentas como infinity.pmi.org e o ChatGPT da OpenAI aliado ao contexto de negócios\, business agility e outras ferramentas.\n\nUtilizamos em todos os 10 encontros a Inteligência Artificial\, pautados nas principais áreas do Gerenciamento de Portfólio\, Programas (Novo)\, Business Requeriments (Novo)\, PMBOK 7ed.\, Guia de Processos (Novo) e Guia Ágil. O curso é totalmente novo\, moderno\, pensado\, elaborado e entregue para a comunidade de gerentes de projetos\, como resposta aos inúmeros desafios desta brilhante carreira.\n \nAprenda nas aulas a resolver problemas reais\, aplicando em casos de uso real. Você aprende\, reflete e pivota\, tornando-se um profissional mais completo e desejado pelas empresas.\n\n\n\nPara quem é esse curso\n\n• Qualquer profissional ou especialista que deseje implementar projetos ou alguém que queira aprender sobre como criar um projeto. O candidato pode ser de qualquer domínio e o curso não está restrito a TI ou a um domínio específico.\n• Se você está procurando treinamento em práticas em gerenciamento de projetos com treinadores experientes e altamente qualificados do PMI-SP que podem te ajudar a melhorar na condução de projetos.\n• O curso de formação em práticas de gerenciamento de projetos auxilia caso tenha um conhecimento profundo do PMBOK\, de suas ferramentas e das centenas de práticas e estratégias que ele contém – seria importante\, mas não obrigatório.\n \n\n\n\nClique para saber mais sobre cursos como: CAPM\, PMP\, PgMP\, PfMP\, ACP\, DASM\, DASSM e muito mais.\n\n\nRecursos de treinamento\n• Apostila com a teoria e prática em plataformas de colaboração\n• Instrutor PMI®️ Certificado CAPM ou PMP em sala \n• Treinamento on-line ao vivo\n• Conteúdo do curso de alta qualidade pelo PMI e PMI-SP\n• Certificado de conclusão do curso\n• Aulas convenientes (opções para fins de semana e dias de semana)\n\n\nPré-aula\n• A cada aula tem um documento sobre a Pré-aula de 1 hora para que o aluno se prepare para a aula\, tomando conhecimento da abordagem\, bibliografias\, esquemas\, planilhas\, esclarecimentos técnicos e básicos sobre o que será abordado na aula\, e considera-se que o aluno tenha esse compromisso de leitura.\n• Ao matricular-se o aluno participará de um grupo de Whatsapp e será assistido pelo GP do curso\, podendo obter esclarecimentos sobre a pré-aula\, aula e pós-aula. 
URL:https://pmisp.org.br/evento/fpgp-formacao-em-pratica-de-gp-tercas-e-quintas-turma-06/
CATEGORIES:Treinamentos PMI São Paulo
ATTACH;FMTTYPE=image/webp:https://pmisp.org.br/wp-content/uploads/2024/12/FPGP.webp
ORGANIZER;CN="PMI%C2%AE S%C3%A3o Paulo Project Management Institute Cap%C3%ADtulo S%C3%A3o Paulo":MAILTO:treinamentos@pmisp.org.br
END:VEVENT
END:VCALENDAR