BEGIN:VCALENDAR
VERSION:2.0
PRODID:-//PMI® São Paulo - ECPv6.15.20//NONSGML v1.0//EN
CALSCALE:GREGORIAN
METHOD:PUBLISH
X-WR-CALNAME:PMI® São Paulo
X-ORIGINAL-URL:https://pmisp.org.br
X-WR-CALDESC:Eventos para PMI® São Paulo
REFRESH-INTERVAL;VALUE=DURATION:PT1H
X-Robots-Tag:noindex
X-PUBLISHED-TTL:PT1H
BEGIN:VTIMEZONE
TZID:America/Sao_Paulo
BEGIN:STANDARD
TZOFFSETFROM:-0300
TZOFFSETTO:-0300
TZNAME:-03
DTSTART:20240101T000000
END:STANDARD
END:VTIMEZONE
BEGIN:VEVENT
DTSTART;TZID=America/Sao_Paulo:20250902T190000
DTEND;TZID=America/Sao_Paulo:20251005T220000
DTSTAMP:20260420T213605
CREATED:20241223T195517Z
LAST-MODIFIED:20241223T195530Z
UID:2733-1756839600-1759701600@pmisp.org.br
SUMMARY:FpGP - Formação em Prática de GP - Terças e Quintas - Turma 05
DESCRIPTION:Detalhes do Curso \nCarga Horária: 30 horas\nFormato: Online\nAulas: Terças e Quintas\, das 19:00 às 22:00\nInício: 02 de Setembro de 2025\nTérmino: 05 de Outubro de 2025\nA conclusão do curso teórico e prático concede 30 PDU’s\nIdioma: Português (Aula e Materiais)\n \n\n\nFpGP – Formação em Práticas de Gerenciamento de Projetos\nSobre o treinamento\nA formação em prática de Gerenciamento de Projetos\, ensina gerentes funcionais\, gerentes de projetos e/ou analistas em gerenciamento de projetos a conseguirem desenvolver um projeto desde o início e a evoluir aplicando o PMBOK em seu dia a dia.\n \nPara muitas organizações que desejam transformações para prosperar na economia disruptiva de hoje\, trabalhando com projetos\, ter profissionais que dominem como transformar uma ideia em projeto executável\, conhecer sobre a execução do gerenciamento de projetos\, gera uma vantagem competitiva para sua operação e garante uma melhora em sua própria “maneira de trabalhar”.\n \n\nLeve seu conhecimento e experiência em gerenciamento de projetos para o próximo nível. Treine as equipes sobre como aplicar e otimizar o uso em toda a empresa.\n\nInteligência Artificial Aplicada a Projetos\n\nQuer aprender Inteligência Artificial aplicada a projetos na Prática?\n\nEm nosso treinamento de Formação Prática de Gerenciamento de Projetos (FpGP) no PMI-SP\, você aprende a utilizar a inteligência artificial em projetos na prática\, usando ferramentas como infinity.pmi.org e o ChatGPT da OpenAI aliado ao contexto de negócios\, business agility e outras ferramentas.\n\nUtilizamos em todos os 10 encontros a Inteligência Artificial\, pautados nas principais áreas do Gerenciamento de Portfólio\, Programas (Novo)\, Business Requeriments (Novo)\, PMBOK 7ed.\, Guia de Processos (Novo) e Guia Ágil. O curso é totalmente novo\, moderno\, pensado\, elaborado e entregue para a comunidade de gerentes de projetos\, como resposta aos inúmeros desafios desta brilhante carreira.\n \nAprenda nas aulas a resolver problemas reais\, aplicando em casos de uso real. Você aprende\, reflete e pivota\, tornando-se um profissional mais completo e desejado pelas empresas.\n\n\n\nPara quem é esse curso\n\n• Qualquer profissional ou especialista que deseje implementar projetos ou alguém que queira aprender sobre como criar um projeto. O candidato pode ser de qualquer domínio e o curso não está restrito a TI ou a um domínio específico.\n• Se você está procurando treinamento em práticas em gerenciamento de projetos com treinadores experientes e altamente qualificados do PMI-SP que podem te ajudar a melhorar na condução de projetos.\n• O curso de formação em práticas de gerenciamento de projetos auxilia caso tenha um conhecimento profundo do PMBOK\, de suas ferramentas e das centenas de práticas e estratégias que ele contém – seria importante\, mas não obrigatório.\n \n\n\n\nClique para saber mais sobre cursos como: CAPM\, PMP\, PgMP\, PfMP\, ACP\, DASM\, DASSM e muito mais.\n\n\nRecursos de treinamento\n• Apostila com a teoria e prática em plataformas de colaboração\n• Instrutor PMI®️ Certificado CAPM ou PMP em sala \n• Treinamento on-line ao vivo\n• Conteúdo do curso de alta qualidade pelo PMI e PMI-SP\n• Certificado de conclusão do curso\n• Aulas convenientes (opções para fins de semana e dias de semana)\n\n\nPré-aula\n• A cada aula tem um documento sobre a Pré-aula de 1 hora para que o aluno se prepare para a aula\, tomando conhecimento da abordagem\, bibliografias\, esquemas\, planilhas\, esclarecimentos técnicos e básicos sobre o que será abordado na aula\, e considera-se que o aluno tenha esse compromisso de leitura.\n• Ao matricular-se o aluno participará de um grupo de Whatsapp e será assistido pelo GP do curso\, podendo obter esclarecimentos sobre a pré-aula\, aula e pós-aula. 
URL:https://pmisp.org.br/evento/fpgp-formacao-em-pratica-de-gp-tercas-e-quintas-turma-05/
CATEGORIES:Treinamentos PMI São Paulo
ATTACH;FMTTYPE=image/webp:https://pmisp.org.br/wp-content/uploads/2024/12/FPGP.webp
ORGANIZER;CN="PMI%C2%AE S%C3%A3o Paulo Project Management Institute Cap%C3%ADtulo S%C3%A3o Paulo":MAILTO:treinamentos@pmisp.org.br
END:VEVENT
END:VCALENDAR