BEGIN:VCALENDAR
VERSION:2.0
PRODID:-//PMI® São Paulo - ECPv6.15.20//NONSGML v1.0//EN
CALSCALE:GREGORIAN
METHOD:PUBLISH
X-WR-CALNAME:PMI® São Paulo
X-ORIGINAL-URL:https://pmisp.org.br
X-WR-CALDESC:Eventos para PMI® São Paulo
REFRESH-INTERVAL;VALUE=DURATION:PT1H
X-Robots-Tag:noindex
X-PUBLISHED-TTL:PT1H
BEGIN:VTIMEZONE
TZID:America/Sao_Paulo
BEGIN:STANDARD
TZOFFSETFROM:-0300
TZOFFSETTO:-0300
TZNAME:-03
DTSTART:20240101T000000
END:STANDARD
END:VTIMEZONE
BEGIN:VEVENT
DTSTART;TZID=America/Sao_Paulo:20250802T083000
DTEND;TZID=America/Sao_Paulo:20250823T173000
DTSTAMP:20260420T201232
CREATED:20241223T193659Z
LAST-MODIFIED:20241223T194255Z
UID:2722-1754123400-1755970200@pmisp.org.br
SUMMARY:Preparatório Oficial PMI DA (Disciplined Agile) - DAVSC Online - Sábados - Turma 02
DESCRIPTION:Detalhes do Curso \nCarga Horária: 32 horas\nFormato: Online\nAulas: Sábados\, das 08:30 às 17:30\nInício: 02 de Agosto de 2025\nTérmino: 23 de Agosto de 2025\nA conclusão do preparatório concede 21 PDU’s\nIdioma: Português (Materiais em Inglês)\n \n\n \nPREÇO ESPECIAL DE LANÇAMENTO DO TREINAMENTO!!!\n \nDisciplined Agile Value Stream Consultant\nSobre o treinamento\nO Disciplined Agile® Value Stream Consultant é um curso que irá capacitá-lo a determinar o melhor lugar para uma organização começar – gerenciamento de portfólio\, gerenciamento de produto ou desenvolvimento – e adaptar um plano de melhoria com base em suas necessidades exclusivas. Tudo isso atendendo à cultura da organização.\nEste curso poderoso combina Lean\, Flow\, a Teoria sobre Restrições\, Teorias e Práticas de desenvolvimento Organizacional no Disciplined Agile® para fornecer a você as ferramentas para otimizar os fluxos de valor em toda a organização.\n\n\nEle permite que você identifique as práticas que serão mais eficazes onde forem aplicadas – seja uma nova transição para Agilidade ou a continuação de uma Transição pautada em SAFe ou Spotify ou Outra\, por ser uma abordagem agnóstica permite também combinar o que há de melhor em práticas em escala.\n\n \nRepleto de atividades\, leituras complementares e muito mais\, este curso irá prepará-lo para fazer o exame Disciplined Agile® Value Stream Consultant (DAVSC) e\, igualmente importante\, começar a usar o Disciplined Agile® em toda a organização como um Consultor de Portfólio e Value Stream Lead.\n \n\nO Disciplined Agile® não é uma estrutura\, mas um kit de ferramentas que se concentra nas decisões que você precisa considerar\, nas opções disponíveis e nas compensações associadas a essas opções.\n\n\nOrganizações Ambidestras\n• Em 1976\, o professor Robert B. Duncan\, da Kellogg School of Management\, uma das mais prestigiadas escolas de gestão do mundo\, publicou um artigo na revista Strategies and Implementation com o título “The Ambidextrous Organization: Designing Dual Structures For High Performance”. Capazes de equilibrar duas dimensões para serem bem-sucedidas de modo sustentável no longo prazo.\n\n\n\n• Para transformar uma organização você deverá aplicar o kit de ferramentas do Disciplined Agile em várias camadas estratégica\, tática e operacional. Tornando possível\, que os trabalhos ligados a Inovação em produtos e serviços\, além dos processos envolvendo a geração de valor sejam mutualmente coordenados enquanto se trabalha a agilidade em todos os níveis\, por isso recomendamos passar pela trilha para obter o conhecimento completo.\n• Como o Disciplined Agile Value Stream Consultant\, possui um sistema Dual para entrega de valor ao cliente e acionista\, tornando possível obter a exploração\, que representa a busca por novas oportunidades; e com a evolução\, que compreende a otimização das operações existentes\, buscando a máxima eficiência operacional\, você terá condições de traçar seu plano de melhoria organizacional de longo prazo enquanto atua no dia a dia com kaizen loops visto no DAC.\n\n\n\nO que você irá aprender\n\n• Aprenda a determinar o melhor lugar para uma organização começar.\n• Esteja preparado para adaptar o plano de melhoria de uma organização com base em suas necessidades exclusivas\, ao mesmo tempo que presta atenção à sua cultura\n• Saiba como acelerar a realização de valor por seus clientes em grande escala.\n• Identifique as práticas mais eficazes para cada situação com a ajuda do kit de ferramentas DA\, seja uma nova transição Agile ou a continuação de uma abordagem SAFe\, Spotify ou outra.\n• Ser capaz de treinar uma organização para continuar a melhorar por conta própria.\n \n\nPara saber mais sobre a certificação DAVSC®\, acesse https://www.pmi.org/certifications/agile-certifications/disciplined-agile-value-stream-consultant-davsc\n\n\n\nUma Introdução ao PMI DAVSC®\n\nO PMI disponibiliza um workshop gratuito e contempla mais informações sobre o que você aprenderá:\n\n\n\n* Membros PMI recebem 1 PDU.\nAcesse o workshop clicando aqui\n\n\nDetalhando o conteúdo programático\n\n• Value Stream Lead (Ideação\, Estratégia de Melhoria e Otimização de Fluxos de Valor): função\, trabalho e estratégias\n\n\n• O fluxo de valor idealizado\n• Removendo atrasos no fluxo de trabalho\n• O incremento mínimo de negócios\n• O fluxo de trabalho de descoberta e o processo de entrada de desenvolvimento\n• Planejamento e coordenação de incremento de negócios\n• Cadências de Resultados\n• Reduzindo (não acomodando) dependências\n• Fatores para fluxos de valor eficazes\n• Estrutura de Criação de Valor\n• Orçamento ágil e financiamento enxuto\n• Criando visibilidade em toda a organização\n• Papéis principais\n\n\n\n• Fim das atividades de incremento\n\n\n\n\n\n\n\nVocê é elegível para o exame DAVSC®\n\n• Três anos de experiência em agilidade\, desejável\, alguns cenários já vivenciados podem contribuir para enriquecimento das dinâmicas;\n• Não é mais necessário ter a certificação Disciplined Agile Senior Scrum Master (DASSM®) para fazer esse curso\, porém ao garantir esse conhecimento profundo do kit de ferramentas DA e das centenas de práticas e estratégias que ele contém\, podem ajuda-lo na sua performance\, mas não mais obrigatório.\n\n\n\n\n\nPara quem é a certificação DAVSC®? (Disciplined Agile Value Stream Consultant)\n\n• Qualquer profissional ou especialista que deseje implementar Agilidade em Escala ou alguém que queira aprender Agilidade no mais alto nível. O candidato pode ser de qualquer domínio e não pode estar restrito a TI ou a um domínio específico\, desde que atenda aos pré-requisitos.\n• Se você está procurando treinamento de certificação DAVSC®\, treinadores experientes e altamente qualificados do PMI-SP podem te ajudar a passar no DAVSC® na primeira tentativa.\n\nClique aqui para saber mais sobre as certificações.\n\n\nRecursos de treinamento\n• Instrutor PMI® Certificado em sala e treinamento on-line ao vivo\n• Conteúdo de curso de alta qualidade pelo PMI e PMI-SP em inglês\n• Um treinamento preparatório para exames de 24 horas\n• Certificado de Conclusão do Treinamento (exigido para elegibilidade para o exame)\n• Aulas convenientes (Esta opção será para fins de semana)\n• Dicas e truques para passar no exame na primeira tentativa\n• Simulador de Exame Gratuito\n• Sessão de coaching individual gratuita de uma hora com Padrinhos.\n• A taxa do exame está incluída\n• Aplicação de exame e suporte de auditoria\n\n\nMaterial de preparação para exame\n• Material do Aluno gerado pelo PMI Global\n• Atividades interativas de aprendizagem usando o Miro\n• Reuniões com padrinhos da Turma para plano de estudos\n• Acesso ao Portal PMI-SP da aula (Portal de Aprendizagem)\n• Planos de Estudos e Suporte ao Simulado\n\n\nMais Informações sobre o treinamento DAVSC\n\n• Acesse o site do PMI Global para saber mais sobre a certificação. Clique aqui.\n• Entre em contato conosco para consulta e avaliação gratuita em Operacoes@pmisp.org.br.
URL:https://pmisp.org.br/evento/preparatorio-oficial-pmi-da-disciplined-agile-davsc-online-sabados-turma-02/
CATEGORIES:Preparatórios Oficiais
ATTACH;FMTTYPE=image/webp:https://pmisp.org.br/wp-content/uploads/2024/12/Imagem3.webp
ORGANIZER;CN="PMI%C2%AE S%C3%A3o Paulo Project Management Institute Cap%C3%ADtulo S%C3%A3o Paulo":MAILTO:treinamentos@pmisp.org.br
END:VEVENT
BEGIN:VEVENT
DTSTART;TZID=America/Sao_Paulo:20250804T183000
DTEND;TZID=America/Sao_Paulo:20250901T213000
DTSTAMP:20260420T201232
CREATED:20241223T194056Z
LAST-MODIFIED:20241223T194056Z
UID:2725-1754332200-1756762200@pmisp.org.br
SUMMARY:Preparatorio CAPM LATAM - en línea - Lunes\, Miércoles y Viernes - Clase 02
DESCRIPTION:Detalles del Curso\nCarga horaria: 48 horas\nFormato: En línea\nClases: Lunes\, miércoles y viernes de 18:30 a 21:30 (UTC -5)\nInicio: 04 de Agosto de 2024\nFinalización: 01 de Septiembre de 2024\nLa conclusión del preparatorio otorga 24 PDU’s\nLengua: Español (Clase y Materiales)\n\n\n\n \nCertified Associate in Project Management\nInformación General\nAl igual que la dirección de proyectos ha crecido en importancia y reconocimiento en todo el mundo\, también lo ha hecho la carrera y certificación en dirección de proyectos.\n \n\nLa certificación CAPM® fue creada para miembros del equipo y gerentes de proyecto que están comenzando en la profesión. Los estudiantes con educación secundaria completa también pueden certificarse.\n \nEsta certificación beneficia a profesionales de todas las áreas\, ya que demuestra el interés del profesional en adquirir conocimientos en procesos y terminología de dirección de proyectos. Los profesionales con habilidades en dirección de proyectos se encaminan hacia el liderazgo\, y la certificación CAPM® es una de las mejores formas de impulsar la carrera.\n\n\nUsted puede certificarse como CAPM® si es:\n• Miembro de un equipo de proyecto;\n• Practicante de dirección de proyectos con poca experiencia\, o recién iniciado en las actividades de dirección de proyectos;\n• Estudiante de pregrado o posgrado que tenga interés en dirección de proyectos.\n \nPara estar apto para realizar el examen de certificación\, el candidato debe cumplir con los siguientes requisitos:\n\n• Tener al menos educación secundaria completa y una experiencia mínima de 1500 horas como miembro de equipo de proyecto; O\n• Haber participado en al menos 23 horas de formación formal en gestión de proyectos. (El curso preparatorio cumpre este requisito)\n \nPara más información sobre la certificación CAPM\, haga clic aquí.\n\n¿Por qué deberías elegir el PMI-SP?\n• Instructores altamente calificados y certificados\n• Seguimiento académico con padrinos\n• Vídeos exclusivos del PMI®️ Spotlight\n• Material\, en español\, actualizado y revisado por el representante oficial del PMI®️ en São Paulo\n• Certificado de participación para elegibilidad\n• Clases en español en Vivo y Online
URL:https://pmisp.org.br/evento/preparatorio-capm-latam-en-linea-lunes-miercoles-y-viernes-clase-02/
CATEGORIES:Preparatórios
ATTACH;FMTTYPE=image/webp:https://pmisp.org.br/wp-content/uploads/2024/12/CAPM-ES.webp
ORGANIZER;CN="PMI%C2%AE S%C3%A3o Paulo Project Management Institute Cap%C3%ADtulo S%C3%A3o Paulo":MAILTO:treinamentos@pmisp.org.br
END:VEVENT
BEGIN:VEVENT
DTSTART;TZID=America/Sao_Paulo:20250805T190000
DTEND;TZID=America/Sao_Paulo:20250828T220000
DTSTAMP:20260420T201232
CREATED:20241223T194650Z
LAST-MODIFIED:20241223T194650Z
UID:2727-1754420400-1756418400@pmisp.org.br
SUMMARY:Inteligência Artificial Generativa para Gestão de Projetos - Turma 04
DESCRIPTION:Objetivo do Curso\nCapacitar profissionais de gestão de projetos com conhecimentos práticos e teóricos sobre Inteligência Artificial (IA)\, focando em ferramentas no-code para integração de IA generativa e análise preditiva de riscos\, melhorando a eficiência e a tomada de decisões em projetos.\n\n\n\nInteração intensiva com IA: Você aprenderá a interagir diretamente com tecnologias de IA generativa como ChatGPT\, aplicando essas tecnologias em cenários reais de gestão de projetos.\nSimulações práticas: Participe de simulações de previsibilidade de riscos e construção de chatbots\, obtendo experiência prática que pode ser aplicada imediatamente.\nFerramentas no-code: Aprenda a utilizar ferramentas no-code como Power Automate e Airtable para desenvolver soluções avançadas sem a necessidade de conhecimentos profundos em programação.\nProjetos reais: Desenvolva projetos reais que integrarão IA generativa em fluxos de trabalho de gestão de projetos\, desde a coleta de dados até a análise preditiva.\nAprendizado contínuo: Receba feedback contínuo e suporte dos instrutores\, garantindo que você possa aplicar os conhecimentos adquiridos de forma eficaz.\n\n\n\nEscopo do Curso\n\n\n\n \n\nFormato das Aulas\nAulas ao vivo\, online\, realizadas de terças e quinta-feira\, das 19:00 às 22:00\, com gravações disponíveis para revisão posterior em uma plataforma exclusiva.\n\nPúblico-Alvo\nGerentes de projetos que buscam aprimorar suas habilidades práticas e estratégicas.\nProfissionais iniciantes em cargos de PMO ou projetos\, interessados em aprender práticas e vivências em gestão de projetos com IA.\nEmpresas que desejam capacitar seus funcionários com conhecimentos avançados em gestão de projetos.\n\nBenefícios do Curso\nAprendizado prático e aplicado com uso de ferramentas como ChatGPT\, Monday\, Airtable\, power automate e outros.\nIntegração de inteligência artificial para otimização e suporte na gestão de projetos.\n\nO curso irá te conferir também PDUs! 24 PDUs\n\nCertificação\nAo final do curso\, os participantes receberão um certificado de conclusão\, reconhecendo sua expertise e habilidades avançadas em IA-Generativa em gestão de projetos.
URL:https://pmisp.org.br/evento/inteligencia-artificial-generativa-para-gestao-de-projetos-turma-04/
CATEGORIES:Treinamentos em Parceria
ATTACH;FMTTYPE=image/webp:https://pmisp.org.br/wp-content/uploads/2024/12/GEn-AI.webp
ORGANIZER;CN="PMI%C2%AE S%C3%A3o Paulo Project Management Institute Cap%C3%ADtulo S%C3%A3o Paulo":MAILTO:treinamentos@pmisp.org.br
END:VEVENT
END:VCALENDAR