BEGIN:VCALENDAR
VERSION:2.0
PRODID:-//PMI® São Paulo - ECPv6.15.20//NONSGML v1.0//EN
CALSCALE:GREGORIAN
METHOD:PUBLISH
X-WR-CALNAME:PMI® São Paulo
X-ORIGINAL-URL:https://pmisp.org.br
X-WR-CALDESC:Eventos para PMI® São Paulo
REFRESH-INTERVAL;VALUE=DURATION:PT1H
X-Robots-Tag:noindex
X-PUBLISHED-TTL:PT1H
BEGIN:VTIMEZONE
TZID:America/Sao_Paulo
BEGIN:STANDARD
TZOFFSETFROM:-0300
TZOFFSETTO:-0300
TZNAME:-03
DTSTART:20240101T000000
END:STANDARD
END:VTIMEZONE
BEGIN:VEVENT
DTSTART;TZID=America/Sao_Paulo:20250401T190000
DTEND;TZID=America/Sao_Paulo:20250506T230000
DTSTAMP:20260420T160738
CREATED:20241223T190009Z
LAST-MODIFIED:20241223T190055Z
UID:2707-1743534000-1746572400@pmisp.org.br
SUMMARY:Preparatório CAPM Online - Terças e Quintas - Turma 17
DESCRIPTION:Detalhes do Curso\nCarga horária: 40 horas\nFormato: Online\nAulas: Terças e Quintas das 19:00 às 23:00\nInício: 01 de Abril de 2025\nTérmino: 06 de Maio de 2025\nA conclusão do preparatório concede 24 PDU’s\nIdioma: Português (Aula e Materiais)\n \n\n \nCertified Associate in Project Management\nInformações Gerais\nDa mesma forma que o gerenciamento de projetos tem crescido ao redor do mundo em importância e reconhecimento\, assim também o é com a carreira e certificação em gerenciamento de projetos.\nA certificação CAPM® foi criada para membros de equipe e gerentes de projeto que estão começando na profissão. Estudantes com o ensino médio (2º Grau) completo também podem se certificar.\nEsta certificação beneficia profissionais de todas as áreas\, pois demonstra o interesse do profissional no ganho de conhecimentos em processos e terminologias de gerenciamento de projeto. Profissionais com habilidades em gerenciamento de projetos rumam a caminho da liderança\, e a certificação CAPM® é uma das melhores formas de alavancar a carreira.\n \nNa edição atual do curso CAPM do PMI SP\, oferecemos uma parte básica em fundamentos em gerenciamento de projetos em todas as nossas aulas\, o qual reforça e enriquece o entendimento\, permitindo ao aluno que não teve nenhum contato com gerenciamento de projetos\, obtenha o nivelamento de conhecimento necessário\, acumulando maior expertise e aumentando suas chances para passar na prova do CAPM em sua primeira tentativa\, como muitos dos nossos alunos tem experimentado ultimamente.\n\nNa outra mão\, o aluno aumenta suas chances de empregabilidades por ter praticado e exercitado por mais tempo nas aulas de CAPM. Oferecemos como cortesia acesso a um banco adicional de 300 questões divididos em 6 aulas de simulados para reforçar o conhecimento e ajudar ao aluno pegar ritmo de prova\, elevando sua preparação para o próximo nível de um gerente de projetos Jr\, dominando aspectos sobre projetos híbridos\, ágeis e preditivos com maior facilidade frentes aos desafios empresariais e de negócios aplicando Práticas de gestão já testadas do PMBoK\, Pratices Agile e outros.\n \nVocê pode se certificar CAPM® se for:\n• Membro de uma equipe de projeto;\n• Praticante de gerenciamento de projetos com pouca experiência\, ou recém-iniciado nas atividades de gerenciamento de projetos;\n• Estudante de graduação ou pós-graduação que tenha interesse em gerenciamento de projetos.\n \nPara estar apto a realizar a prova de certificação o candidato deverá preencher os seguintes requisitos:\n• Ter pelo menos o 2º grau completo e experiência mínima de 1500 horas como membro de equipe de projeto; OU\n• Ter participado de pelo menos 23 horas de treinamento formal em gerenciamento de projetos.
URL:https://pmisp.org.br/evento/preparatorio-capm-online-tercas-e-quintas-turma-17/
CATEGORIES:Preparatórios
ATTACH;FMTTYPE=image/webp:https://pmisp.org.br/wp-content/uploads/2024/12/CAPM.webp
ORGANIZER;CN="PMI%C2%AE S%C3%A3o Paulo Project Management Institute Cap%C3%ADtulo S%C3%A3o Paulo":MAILTO:treinamentos@pmisp.org.br
END:VEVENT
END:VCALENDAR