BEGIN:VCALENDAR
VERSION:2.0
PRODID:-//PMI® São Paulo - ECPv6.15.20//NONSGML v1.0//EN
CALSCALE:GREGORIAN
METHOD:PUBLISH
X-ORIGINAL-URL:https://pmisp.org.br
X-WR-CALDESC:Eventos para PMI® São Paulo
REFRESH-INTERVAL;VALUE=DURATION:PT1H
X-Robots-Tag:noindex
X-PUBLISHED-TTL:PT1H
BEGIN:VTIMEZONE
TZID:America/Sao_Paulo
BEGIN:STANDARD
TZOFFSETFROM:-0300
TZOFFSETTO:-0300
TZNAME:-03
DTSTART:20240101T000000
END:STANDARD
END:VTIMEZONE
BEGIN:VEVENT
DTSTART;TZID=America/Sao_Paulo:20250204T190000
DTEND;TZID=America/Sao_Paulo:20250227T220000
DTSTAMP:20260421T170301
CREATED:20241223T185152Z
LAST-MODIFIED:20241223T185153Z
UID:2704-1738695600-1740693600@pmisp.org.br
SUMMARY:Inteligência Artificial Generativa para Gestão de Projetos 2025
DESCRIPTION:Objetivo do Curso\nCapacitar profissionais de gestão de projetos com conhecimentos práticos e teóricos sobre Inteligência Artificial (IA)\, focando em ferramentas no-code para integração de IA generativa e análise preditiva de riscos\, melhorando a eficiência e a tomada de decisões em projetos.\n\n\n\nInteração intensiva com IA: Você aprenderá a interagir diretamente com tecnologias de IA generativa como ChatGPT\, aplicando essas tecnologias em cenários reais de gestão de projetos.\nSimulações práticas: Participe de simulações de previsibilidade de riscos e construção de chatbots\, obtendo experiência prática que pode ser aplicada imediatamente.\nFerramentas no-code: Aprenda a utilizar ferramentas no-code como Power Automate e Airtable para desenvolver soluções avançadas sem a necessidade de conhecimentos profundos em programação.\nProjetos reais: Desenvolva projetos reais que integrarão IA generativa em fluxos de trabalho de gestão de projetos\, desde a coleta de dados até a análise preditiva.\nAprendizado contínuo: Receba feedback contínuo e suporte dos instrutores\, garantindo que você possa aplicar os conhecimentos adquiridos de forma eficaz.\n\n\n\nEscopo do Curso\n\n\n\n \n\nFormato das Aulas\nAulas ao vivo\, online\, realizadas de terças e quinta-feira\, das 19:00 às 22:00\, com gravações disponíveis para revisão posterior em uma plataforma exclusiva.\n\nPúblico-Alvo\nGerentes de projetos que buscam aprimorar suas habilidades práticas e estratégicas.\nProfissionais iniciantes em cargos de PMO ou projetos\, interessados em aprender práticas e vivências em gestão de projetos com IA.\nEmpresas que desejam capacitar seus funcionários com conhecimentos avançados em gestão de projetos.\n\nBenefícios do Curso\nAprendizado prático e aplicado com uso de ferramentas como ChatGPT\, Monday\, Airtable\, power automate e outros.\nIntegração de inteligência artificial para otimização e suporte na gestão de projetos.\n\nO curso irá te conferir também PDUs! 24 PDUs\n\nCertificação\nAo final do curso\, os participantes receberão um certificado de conclusão\, reconhecendo sua expertise e habilidades avançadas em IA-Generativa em gestão de projetos.
URL:https://pmisp.org.br/evento/inteligencia-artificial-generativa-para-gestao-de-projetos-2025/
CATEGORIES:Treinamentos em Parceria
ATTACH;FMTTYPE=image/webp:https://pmisp.org.br/wp-content/uploads/2024/12/GEn-AI.webp
ORGANIZER;CN="PMI%C2%AE S%C3%A3o Paulo Project Management Institute Cap%C3%ADtulo S%C3%A3o Paulo":MAILTO:treinamentos@pmisp.org.br
END:VEVENT
END:VCALENDAR