BEGIN:VCALENDAR
VERSION:2.0
PRODID:-//PMI® São Paulo - ECPv6.15.20//NONSGML v1.0//EN
CALSCALE:GREGORIAN
METHOD:PUBLISH
X-WR-CALNAME:PMI® São Paulo
X-ORIGINAL-URL:https://pmisp.org.br
X-WR-CALDESC:Eventos para PMI® São Paulo
REFRESH-INTERVAL;VALUE=DURATION:PT1H
X-Robots-Tag:noindex
X-PUBLISHED-TTL:PT1H
BEGIN:VTIMEZONE
TZID:America/Sao_Paulo
BEGIN:STANDARD
TZOFFSETFROM:-0300
TZOFFSETTO:-0300
TZNAME:-03
DTSTART:20230101T000000
END:STANDARD
END:VTIMEZONE
BEGIN:VEVENT
DTSTART;TZID=America/Sao_Paulo:20241217T193000
DTEND;TZID=America/Sao_Paulo:20241217T230000
DTSTAMP:20260421T140832
CREATED:20241209T142005Z
LAST-MODIFIED:20241209T142006Z
UID:2676-1734463800-1734476400@pmisp.org.br
SUMMARY:Happy Hour no Interior - PMI SP Branch Sorocaba
DESCRIPTION:🎉 Olá\, Sorocaba e região! 🚀 Evento aberto para todos – não precisa ser do PMI para participar! \n✨ O grande dia está chegando! No dia 17/12/2024\, teremos o nosso aguardado HAPPY HOUR! 🎉 Que tal uma noite de networking\, conhecimento e comida deliciosa?\n🚀 Prepare-se para um encontro imperdível!\nNesta edição especial\, teremos o privilégio de contar com Felipe Correa\, especialista em Gestão de Projetos e Inteligência Artificial. Ele trará insights poderosos sobre como a IA está revolucionando o dia a dia na gestão de projetos.\nAlém disso\, Felipe é proprietário do Canal Café com inovação. Conheça seu trabalho através da página @cafecominovacao \n💡 Tema: Transformando a Gestão de Projetos com a Inteligência Artificial – O Futuro Já Chegou!\n🎯 Descubra como você pode potencializar seus projetos e estar à frente no mercado.\n📅 Data: 17 de dezembro de 2024\n⏰ Horário: 19h30\n📍 Local: Salome Bar Santa Rosália\n📌 Endereço: Av. São Francisco\, 269 – Jardim Santa Rosália\, Sorocaba – SP\n🍹 Aproveite um ambiente descontraído e a oportunidade de networking com grandes`
URL:https://pmisp.org.br/evento/happy-hour-no-interior-pmi-sp-branch-sorocaba-2/
LOCATION:Salomé Bar Santa Rosália\, Av. São Francisco 269\, Sorocaba\, São Paulo\, 18095-450\, Brazil
CATEGORIES:Happy Hour no Interior
ATTACH;FMTTYPE=image/webp:https://pmisp.org.br/wp-content/uploads/2024/12/Imagem6.webp
ORGANIZER;CN="PMI%C2%AE S%C3%A3o Paulo Project Management Institute Cap%C3%ADtulo S%C3%A3o Paulo":MAILTO:treinamentos@pmisp.org.br
END:VEVENT
END:VCALENDAR