BEGIN:VCALENDAR
VERSION:2.0
PRODID:-//PMI® São Paulo - ECPv6.15.20//NONSGML v1.0//EN
CALSCALE:GREGORIAN
METHOD:PUBLISH
X-ORIGINAL-URL:https://pmisp.org.br
X-WR-CALDESC:Eventos para PMI® São Paulo
REFRESH-INTERVAL;VALUE=DURATION:PT1H
X-Robots-Tag:noindex
X-PUBLISHED-TTL:PT1H
BEGIN:VTIMEZONE
TZID:America/Sao_Paulo
BEGIN:STANDARD
TZOFFSETFROM:-0300
TZOFFSETTO:-0300
TZNAME:-03
DTSTART:20230101T000000
END:STANDARD
END:VTIMEZONE
BEGIN:VEVENT
DTSTART;TZID=America/Sao_Paulo:20241213T190000
DTEND;TZID=America/Sao_Paulo:20241213T230000
DTSTAMP:20260421T200646
CREATED:20241209T143944Z
LAST-MODIFIED:20241209T143944Z
UID:2681-1734116400-1734130800@pmisp.org.br
SUMMARY:Happy Hour no Interior - PMI São Paulo Branch Guarulhos
DESCRIPTION:Inteligência Artificial na Gestão de Projetos  \nA Inteligência Artificial (IA) está redefinindo a gestão de projetos\, oferecendo suporte para decisões estratégicas e otimizando fluxos de trabalho. Nesta palestra\, exploraremos como a IA pode ser utilizada como uma ferramenta para melhorar a entrega de valor\, reduzir riscos e transformar processos complexos em soluções inteligentes\, aplicáveis por profissionais de gestão de projetos. \nCom a aplicação de ferramentas baseadas em IA\, a gestão de projetos se torna mais ágil e eficiente. Este evento apresentará casos práticos e técnicas de integração da IA no planejamento\, monitoramento e controle de projetos\, destacando como essas inovações podem apoiar profissionais a atingirem melhores resultados no dia a dia da gestão.\n \n\nInformações sobre o palestrante: Rafael Ribeiro Santos  Especialidade: Consultor em sistemas de automação e otimização de processos\, Rafael é músico\, graduado em licenciatura pela USP\, pós-graduado em Gestão de Projetos pela UMESP e atua como gerente de eventos no Branch Guarulhos do PMI SP. Fundador da Café com Inovação\, uma empresa de treinamento com foco em gerenciamento de projetos e inovação. Em meu canal do YouTube com o mesmo nome @cafecominovacao\, compartilho conhecimento com uma comunidade ativa de inovadores e profissionais. Evento aberto a todos os interessados no tema e Gestores de projetos\, profissionais de tecnologia\, analistas de negócios\, estudantes e interessados em inovação e inteligência artificial aplicada à gestão. \n\n 13 de DEZEMBRO de 2024\, a partir das 19:00 hs \nCronograma: \n\n19h00: Recepção e boas-vindas\n19h30: Palestra “Inteligência Artificial na Gestão de Projetos” com Rafael Ribeiro Santos\n20h15: Sessão interativa: Perguntas e Respostas\n20h45: Encerramento e Networking\n\nLocal: Tutóia Restaurante\, Pizzaria e Eventos Endereço: Alameda Tutóia\, 510 – Gopouva\, Guarulhos – SP \n1 PDU
URL:https://pmisp.org.br/evento/happy-hour-no-interior-pmi-sao-paulo-branch-guarulhos/
LOCATION:Tutóia Restaurante e Pizzaria\, Alameda Tutóia 510\, Gopouva\, Guarulhos\, São Paulo\, 07092-000\, Brazil
CATEGORIES:Happy Hour no Interior
ATTACH;FMTTYPE=image/webp:https://pmisp.org.br/wp-content/uploads/2024/12/Imagem7.webp
ORGANIZER;CN="PMI%C2%AE S%C3%A3o Paulo Project Management Institute Cap%C3%ADtulo S%C3%A3o Paulo":MAILTO:treinamentos@pmisp.org.br
END:VEVENT
END:VCALENDAR