BEGIN:VCALENDAR
VERSION:2.0
PRODID:-//PMI® São Paulo - ECPv6.15.20//NONSGML v1.0//EN
CALSCALE:GREGORIAN
METHOD:PUBLISH
X-WR-CALNAME:PMI® São Paulo
X-ORIGINAL-URL:https://pmisp.org.br
X-WR-CALDESC:Eventos para PMI® São Paulo
REFRESH-INTERVAL;VALUE=DURATION:PT1H
X-Robots-Tag:noindex
X-PUBLISHED-TTL:PT1H
BEGIN:VTIMEZONE
TZID:America/Sao_Paulo
BEGIN:STANDARD
TZOFFSETFROM:-0300
TZOFFSETTO:-0300
TZNAME:-03
DTSTART:20230101T000000
END:STANDARD
END:VTIMEZONE
BEGIN:VEVENT
DTSTART;TZID=America/Sao_Paulo:20241209T190000
DTEND;TZID=America/Sao_Paulo:20241212T230000
DTSTAMP:20260421T225058
CREATED:20240624T170248Z
LAST-MODIFIED:20241209T131624Z
UID:992-1733770800-1734044400@pmisp.org.br
SUMMARY:Workshop OKR + Certificação OKR Agile Coach - PMI São Paulo em parceria com a FIXE - Turma 23
DESCRIPTION:Detalhes do Curso\nCarga Horária: 16 horas\nFormato: Online\nAulas: Segunda-feira à Quinta-feira\, das 19h às 23h\n\nA conclusão do preparatório concede 16 PDU’s\nIdioma: Português (Aula e Materiais)\n \n\n \nWorkshop OKR + Certificação OKR Agile Coach\nCapacitação Intensiva Teórico-Prática!\n \nAprenda o mais famoso método de Gestão de Resultados e melhore a performance da sua empresa para sempre.\n \nOportunidade de realizar uma Imersão Intensiva em OKR que habilitará você para obter seu Certificado de OKR Agile Coach pela FIXE.\n \nPara quem é esse Workshop?\nDirecionado para:\n• Equipes de Escritórios de Projetos;\n• Equipes de Escritórios de Processos;\n• Gerentes de Portfolio\, Programas e Projetos;\n• Equipes de Planejamento Estratégico;\n• Responsáveis de Transformação Digital;\n• Responsáveis de Transformação Ágil;\n• Diretores de Projetos e de Planejamento Estratégico\n \nE Líderes em geral que queiram:\n• Ser parte fundamental no processo de Transformação Corporativa;\n• Atuar como Agente de Mudanças para reduzir a curva de aprendizado;\n• Mudar a Cultura Organizacional tornando a empresa mais competitiva e ágil;\n• Tornar o processo de definição de metas mais simples\, reduzindo drasticamente o tempo e os recursos necessários;\n• Trabalhar com colaboradores mais engajados\, colocando esforço no que é mais importante e com foco nos resultados;\n• Ter uma visão mais clara do que está sendo executado e os passos necessários para o alcance dos objetivos organizacionais.\n \nAo Participar do Workshop você terá acesso a:\n• 3 Aulas de Conceito incluindo boas práticas\, tópicos avançados e estratégias de implantação;\n• 3 Cases de Sucesso implementados pela Maria Angélica Castellani e com depoimentos dos responsáveis pelas empresas onde foram implantados;\n• 7 Atividades Práticas com destaque para o OKR Discovery Game® com 4 horas de duração;\n• 1 Grupo Exclusivo de WhatsApp para estudos\, troca de experiências e networking;\n• 5 Mentorias em Grupo exclusivas para alunos da Fixe\, com temas variados sobre OKRs;\n• Materiais Exclusivos: eBooks\, Planilhas\, Apresentações;\n• Certificado Reconhecido no Mercado\, Sujeito a 75% de aprovação.\n \nPor que você precisa conhecer OKR\n• OKR (Objectives & Key Results) é considerado o framework Ágil de gestão de resultados;\n• Foi o responsável do crescimento exponencial do Google\, que passou de 40 colaboradores para mais de 100 mil hoje;\n• Foi adotado pelo Twitter\, Facebook\, Linkedin\, Uber\, Airbnb\, Microsoft\, Samsung\, Netflix\, Oracle\, Amazon\, Spotify\, Adobe e muitas outras;\n• A sua utilização começou na Intel e depois se expandiu para a Silicon Valley;\n• Hoje é amplamente utilizado desde startups até grandes empresas no mundo todo;\n• É uma nova oportunidade para realizar a sua gestão de resultados de forma efetiva e eficaz.\n \nO que você aprenderá na prática\n• Entenderá as diferenças entre OKRs\, KPIs e outros sistemas de metas;\n• Aprenderá como escrever bons Objetivos e Resultados Chave;\n• Entenderá a Integração dos OKRs Estratégicos\, Táticos e Operacionais;\n• Dominará na prática todo o ciclo de vida dos OKRs;\n• Conhecerá o que é a cadência tripla e as melhores técnicas de implantação;\n• Aprenderá com os erros\, acertos e boas práticas que não estão nos livros;\n• Conhecerá modelos de planilhas para monitoramento;\n• A utilizar o ChatGPT como alavanca para a estruturação e a definição dos OKRs.\n \nA Facilitadora\nMaria Angélica Castellani\n\nVantagens Desta Imersão Intensiva\nParticipe deste Workshop 100% prático e lúdico\, onde utilizamos as mais modernas técnicas de ensino baseadas na neuroaprendizagem. E você ainda terá acesso a:\n• Acesso a uma Certificação OKR Agile Coach\n• Imersão intensiva no conhecimento teórico prático dos OKR\n• Utilização de um Game exclusivo: OKR Discovery Game®\n• Conhecer a diferença entre os OKRs estratégicos\, táticos e operacionais\n• Aprender a identificar e a mensurar os Benefícios Tangíveis para crescimento organizacional\n• Entender como os OKRs e os KPIs vão de mãos dadas\n \nSeja um expert em Transformação Organizacional e OKR Agile Coach Certificado.\nSe está disposto a enfrentar esses desafios e dar um UP na sua carreira profissional\, não pode perder!\n \nNossa Garantia\nRisco Zero!\nCaso não tenha assimilado os conceitos passados durante o workshop\, poderá participar sem custo do próximo workshop.\n \nAdicionais Exclusivos\nSó o conteúdo do workshop intensivo de OKR e KPI já seria suficiente para você assumir um programa de implantação de OKR na sua empresa\, mas para garantir o sucesso desse projeto receberá os seguintes adicionais GRATUITOS:\n• Mentorias Gratuitas: Acesso a mentorias exclusivas para ex-alunos em grupos on-line e ao vivo!!\n• Certificação OKR Agile Coach: Este é um treinamento oficial da FIXE e não exige avaliação. Para obter sua certificação deve participar de forma efetiva nos dias do workshop. Valor: Gratuito\n• Bibliografia: Sugestões de leitura\, E-book exclusivo com exemplos de OKR.\n• Complementos: Tópicos avançados\, estratégia de implantação e Casos de Sucesso\n• Acesso Gratuito a nosso Grupo de WhatsApp para estudo ou Networking. Valor: Incalculável\n• 16 hs / 16 PDUs / 16 SEUs\n \nOKR Discovery Game® + AI (ChatGPT\, Bard\, Bing)\nA tecnologia mais poderosa do mundo já está presente no Workshop OKR.\nNo OKR Discovery Game® aprenderá na prática como a Inteligência Artificial está mudando o mundo dos negócios.\nO OKR Discovery Game® simula um ambiente organizacional e promove a vivência do aluno nos OKR.\nUtilizando a AI você criará uma estratégia para o cenário apresentado e aprenderá como escrever corretamente os OKRs relacionados.\n\nVenha agora jogar conosco para mudar o destino da sua empresa através dos OKRs.
URL:https://pmisp.org.br/evento/workshop-okr-certificacao-okr-agile-coach-pmi-sao-paulo-em-parceria-com-a-fixe-turma-23/
CATEGORIES:Treinamentos em Parceria
ATTACH;FMTTYPE=image/jpeg:https://pmisp.org.br/wp-content/uploads/2024/06/Workshop-OKR-Certificacao-OKR-Agile-Coach-PMI-Sao-Paulo-em-parceria-com-a-FIXE-Turma-21-e1722341219922.jpeg
ORGANIZER;CN="PMI%C2%AE S%C3%A3o Paulo Project Management Institute Cap%C3%ADtulo S%C3%A3o Paulo":MAILTO:treinamentos@pmisp.org.br
END:VEVENT
BEGIN:VEVENT
DTSTART;TZID=America/Sao_Paulo:20241211T190000
DTEND;TZID=America/Sao_Paulo:20241211T203000
DTSTAMP:20260421T225058
CREATED:20241209T133934Z
LAST-MODIFIED:20241209T134009Z
UID:2651-1733943600-1733949000@pmisp.org.br
SUMMARY:Live Torne-se um especialista em Business Agility
DESCRIPTION:Participe da nossa LIVE sobre Business Agility e Certificações do PMI! \nSe você deseja conhecer mais sobre como o Business Agility pode transformar sua empresa e impulsionar sua equipe\, este webinar é para você! Vamos explorar as principais certificações do PMI que capacitam profissionais a responderem rapidamente às mudanças de mercado com eficiência e inovação. \nO que você verá:\n🌟 Inovação Contínua: Entenda como o conceito de inovação constante contribui para o desenvolvimento de produtos e serviços\, agregando valor em todas as entregas.\n🔄 Estratégias de Operação Eficiente: Descubra métodos práticos para aplicar técnicas de monitoramento e performance\, garantindo que seu time trabalhe de forma ágil e eficiente.\n🚀 Para Times Inovadores: Saiba como maximizar resultados e acelerar o desenvolvimento de soluções que atendam às necessidades dinâmicas do mercado. \nFoco nas Certificações PMI:\nDurante a live\, discutiremos as certificações Novo PMI-ACP\, DAC e DAVSC\, fundamentais para quem deseja aprimorar suas habilidades em Business Agility. \nVocê aprenderá sobre:\n🎓 Benefícios das Certificações: Como essas certificações podem abrir novas oportunidades em sua carreira e contribuir para o crescimento da sua organização.\n📋 Critérios de Elegibilidade: Entenda os requisitos necessários para cada certificação e descubra qual delas é ideal para o seu perfil profissional.\n📄 Formato do Exame e Conteúdo: Vamos abordar os conteúdos obrigatórios e o formato das provas\, além de compartilhar lições aprendidas para uma preparação eficaz. \nQuem deve participar?\nProfissionais de projetos preditivos\, adaptativos ou híbridos e qualquer pessoa interessada em se especializar em Business Agility e gerenciamento de projetos ágeis. \nEste é um evento essencial para quem busca estar atualizado e alinhado com as melhores práticas do mercado. \nInscreva-se e fique por dentro das certificações que podem transformar sua carreira!
URL:https://pmisp.org.br/evento/live-torne-se-um-especialista-em-business-agility/
CATEGORIES:Treinamentos PMI São Paulo
ATTACH;FMTTYPE=image/webp:https://pmisp.org.br/wp-content/uploads/2024/12/Imagem1.webp
ORGANIZER;CN="PMI%C2%AE S%C3%A3o Paulo Project Management Institute Cap%C3%ADtulo S%C3%A3o Paulo":MAILTO:treinamentos@pmisp.org.br
END:VEVENT
END:VCALENDAR