BEGIN:VCALENDAR
VERSION:2.0
PRODID:-//PMI® São Paulo - ECPv6.15.20//NONSGML v1.0//EN
CALSCALE:GREGORIAN
METHOD:PUBLISH
X-ORIGINAL-URL:https://pmisp.org.br
X-WR-CALDESC:Eventos para PMI® São Paulo
REFRESH-INTERVAL;VALUE=DURATION:PT1H
X-Robots-Tag:noindex
X-PUBLISHED-TTL:PT1H
BEGIN:VTIMEZONE
TZID:America/Sao_Paulo
BEGIN:STANDARD
TZOFFSETFROM:-0300
TZOFFSETTO:-0300
TZNAME:-03
DTSTART:20230101T000000
END:STANDARD
END:VTIMEZONE
BEGIN:VEVENT
DTSTART;TZID=America/Sao_Paulo:20240909T190000
DTEND;TZID=America/Sao_Paulo:20241130T180000
DTSTAMP:20260421T124431
CREATED:20240624T155159Z
LAST-MODIFIED:20240627T225639Z
UID:968-1725908400-1732989600@pmisp.org.br
SUMMARY:AFIGP  Instrutor do Futuro - Turma 10 - Online  Segundas\, Quartas e Sábados - PMI-SP
DESCRIPTION:Detalhes do Curso\nCarga horária síncrona: 100 horas\nCarga horária assíncrona: 26 horas\nFormato: Online (informações de acesso serão enviadas próximas ao início do curso)\nTotal carga horária: 126 horas\nAulas: Segundas e quartas\, das 19:00 às 23:00 / Sábados 09:00 às 18:00.\nObservação: Em caso de feriados\, as aulas serão repostas às sextas-feiras.\nA conclusão do curso concede 60 PDU’s\nIdioma: Português (Aula e Materiais)\n\nComo o programa da AFIGP foi desenvolvido? \n\nNosso programa foi rigorosamente elaborado pelos nossos conselheiros acadêmicos e contém inúmeros temas para apoiar na formação de profissionais competentes – incluindo didática\, postura\, ferramentas\, atitude\, planejamento\, entre outros. \n \nComo é o mercado hoje para instrutores de gestão de projetos?\nO mercado para docência na área de gestão organizacional de projetos vem crescendo rapidamente e precisa cada vez mais de profissionais competentes para atuar em diferentes frentes – incluindo multiplicação\, instrução\, docência em cursos superiores e em pós-graduação\, mentoring\, entre outros.\n \nConteúdo \n\n\n\nCarga horário total = 120 horas\n \n\nEventos\nAo longo do ano teremos eventos online conforme as datas abaixo\, onde iremos contar um pouco mais sobre a jornada dentro do AFIGP e esclarecer possíveis dúvidas que tenham.\nI. 1ª Live – Estratégias de avaliação no ensino de Gerenciamento de Projetos – 25/04/2024 às 19h\nII. 1º HH – Evento a ser confirmado\nIII. 2ª Live – Evento a ser confirmado\nIV. 3ª Live com sorteio de 1 vaga para a academia – Evento a ser confirmado\nV. 2º HH – Evento a ser confirmado\n \nQuais são os pré-requisitos para participar do programa?\n1. Conhecimento em algum segmento relacionados à gestão de projetos\, programas\, portfólios e/ou agilidade (o programa não irá incluir temas técnicos relacionados à gestão de projetos\, programas\, portfólios e/ou agilidade – irá focar no desenvolvimento das suas competências para a instrução de conhecimentos que já possui);\n2. Experiência de cinco anos na liderança de temas relacionados à gestão de projetos\, programas\, portfólios e/ou agilidade\, não havendo propriamente a necessidade de possuir o “cargo de liderança”;\n3. Nível universitário;\n4. Intenção legítima de atuar na disseminação de conhecimentos e habilidades de forma ética.  \n 
URL:https://pmisp.org.br/evento/afigp-instrutor-do-futuro-turma-10-online-segundas-quartas-e-sabados-pmi-sp/
CATEGORIES:Treinamentos PMI São Paulo
ATTACH;FMTTYPE=image/webp:https://pmisp.org.br/wp-content/uploads/2024/06/download-12.webp
ORGANIZER;CN="PMI%C2%AE S%C3%A3o Paulo Project Management Institute Cap%C3%ADtulo S%C3%A3o Paulo":MAILTO:treinamentos@pmisp.org.br
END:VEVENT
BEGIN:VEVENT
DTSTART;TZID=America/Sao_Paulo:20241019T090000
DTEND;TZID=America/Sao_Paulo:20241130T180000
DTSTAMP:20260421T124431
CREATED:20240624T171203Z
LAST-MODIFIED:20240803T130434Z
UID:998-1729328400-1732989600@pmisp.org.br
SUMMARY:Preparatório CAPM®  (Certified Associate in Project Management) Online - Sábados - Turma 16
DESCRIPTION:Parcerias com capítulos brasileiros do PMI: \nPMI BA – Bahia\, PMI ES – Espírito Santo\, PMI MG – Minas Gerais\, PMI PB – Paraíba\, PMI RJ – Rio de Janeiro\, PMI RS – Rio Grande do Sul\n \nDetalhes do Curso\nCarga horária: 48 horas\nFormato: Online\nAulas: Sábados das 09:00 às 18:00\nA conclusão do preparatório concede 24 PDU’s\nIdioma: Português (Aula e Materiais)\n \n\n \nCertified Associate in Project Management\nInformações Gerais\nDa mesma forma que o gerenciamento de projetos tem crescido ao redor do mundo em importância e reconhecimento\, assim também o é com a carreira e certificação em gerenciamento de projetos.\nA certificação CAPM® foi criada para membros de equipe e gerentes de projeto que estão começando na profissão. Estudantes com o ensino médio (2º Grau) completo também podem se certificar.\nEsta certificação beneficia profissionais de todas as áreas\, pois demonstra o interesse do profissional no ganho de conhecimentos em processos e terminologias de gerenciamento de projeto. Profissionais com habilidades em gerenciamento de projetos rumam a caminho da liderança\, e a certificação CAPM® é uma das melhores formas de alavancar a carreira.\n \nNa edição atual do curso CAPM do PMI SP\, oferecemos uma parte básica em fundamentos em gerenciamento de projetos em todas as nossas aulas\, o qual reforça e enriquece o entendimento\, permitindo ao aluno que não teve nenhum contato com gerenciamento de projetos\, obtenha o nivelamento de conhecimento necessário\, acumulando maior expertise e aumentando suas chances para passar na prova do CAPM em sua primeira tentativa\, como muitos dos nossos alunos tem experimentado ultimamente.\n\nNa outra mão\, o aluno aumenta suas chances de empregabilidades por ter praticado e exercitado por mais tempo nas aulas de CAPM. Oferecemos como cortesia acesso a um banco adicional de 300 questões divididos em 6 aulas de simulados para reforçar o conhecimento e ajudar ao aluno pegar ritmo de prova\, elevando sua preparação para o próximo nível de um gerente de projetos Jr\, dominando aspectos sobre projetos híbridos\, ágeis e preditivos com maior facilidade frentes aos desafios empresariais e de negócios aplicando Práticas de gestão já testadas do PMBoK\, Pratices Agile e outros.\n \nVocê pode se certificar CAPM® se for:\n• Membro de uma equipe de projeto;\n• Praticante de gerenciamento de projetos com pouca experiência\, ou recém-iniciado nas atividades de gerenciamento de projetos;\n• Estudante de graduação ou pós-graduação que tenha interesse em gerenciamento de projetos.\n \nPara estar apto a realizar a prova de certificação o candidato deverá preencher os seguintes requisitos:\n• Ter pelo menos o 2º grau completo e experiência mínima de 1500 horas como membro de equipe de projeto; OU\n• Ter participado de pelo menos 23 horas de treinamento formal em gerenciamento de projetos.\n \nMais informações sobre a certificação CAPM\, clique aqui.\n\nPor que você deve escolher o PMI-SP?\n• Instrutores altamente qualificados e certificados\n• Apostila oficial do PMI®️ \n• Acompanhamento acadêmico com padrinhos\n• Vídeos exclusivos do PMI®️ Spotlight\n• Material atualizado e revisado pelo representante oficial do PMI®️ em São Paulo\n• Certificado de participação para elegibilidade\n• Aulas Ao vivo e Online\n• + 300 Questões do Exame Oficial com Correção Ao Vivo!\n 
URL:https://pmisp.org.br/evento/998/
CATEGORIES:Preparatórios
ATTACH;FMTTYPE=image/webp:https://pmisp.org.br/wp-content/uploads/2024/06/capm512w.webp
ORGANIZER;CN="PMI%C2%AE S%C3%A3o Paulo Project Management Institute Cap%C3%ADtulo S%C3%A3o Paulo":MAILTO:treinamentos@pmisp.org.br
END:VEVENT
BEGIN:VEVENT
DTSTART;TZID=America/Sao_Paulo:20241105T190000
DTEND;TZID=America/Sao_Paulo:20241205T220000
DTSTAMP:20260421T124431
CREATED:20240812T234256Z
LAST-MODIFIED:20240813T120808Z
UID:2113-1730833200-1733436000@pmisp.org.br
SUMMARY:Formação em Práticas de Gerenciamento de Projetos (FpGP) - T02
DESCRIPTION:Detalhes do Curso \nCarga Horária: 30 horas\nFormato: Online\n\nA conclusão do curso teórico e prático concede 30 PDU’s\nIdioma: Português (Aula e Materiais)\n\n\nA formação em prática em Gerenciamento de Projetos\, ensina gerentes funcionais\, gerentes de projetos e/ou analistas em gerenciamento de projetos a conseguirem desenvolver um projeto desde o início e a evoluir aplicando o PMBOK em seu dia a dia.\n\nPara muitas organizações que desejam transformações para prosperar na economia disruptiva de hoje\, trabalhando com projetos\, ter profissionais que dominem como transformar uma ideia em projeto executável\, conhecer sobre a execução do gerenciamento de projetos\, gera uma vantagem competitiva para sua operação e garante uma melhora em sua própria “maneira de trabalhar”.\n\n\nLeve seu conhecimento e experiência em gerenciamento de projetos para o próximo nível. Treine as equipes sobre como aplicar e otimizar o uso em toda a empresa.\n\n\nPara quem é esse curso\n\n• Qualquer profissional ou especialista que deseje implementar projetos ou alguém que queira aprender sobre como criar um projeto. O candidato pode ser de qualquer domínio e o curso não está restrito a TI ou a um domínio específico.\n• Se você está procurando treinamento em práticas em gerenciamento de projetos com treinadores experientes e altamente qualificados do PMI-SP que podem te ajudar a melhorar na condução de projetos.\n• O curso de formação em práticas de gerenciamento de projetos auxilia caso tenha um conhecimento profundo do PMBOK\, de suas ferramentas e das centenas de práticas e estratégias que ele contém – seria importante\, mas não obrigatório.\n\n\n\n\n\n\n\n\n\n\n\nRecursos de treinamento\n• Apostila com a teoria e prática em plataformas de colaboração\n• Treinamento on-line ao vivo\n• Conteúdo do curso de alta qualidade pelo PMI-SP\n• Certificado de conclusão do curso\n• Aulas convenientes (opções para fins de semana e dias de semana)\n\n\nPré-aula\n• A cada aula tem um documento sobre a Pré-aula de 1 hora para que o aluno se prepare para a aula\, tomando conhecimento da abordagem\, bibliografias\, esquemas\, planilhas\, esclarecimentos técnicos e básicos sobre o que será abordado na aula\, e considera-se que o aluno tenha esse compromisso de leitura.\n• Ao matricular-se o aluno participará de um grupo de Whatsapp e será assistido pelo GP do curso\, podendo obter esclarecimentos sobre a pré-aula\, aula e pós-aula.
URL:https://pmisp.org.br/evento/formacao-em-praticas-de-gerenciamento-de-projetos-fpgp/
CATEGORIES:Treinamentos PMI São Paulo
ATTACH;FMTTYPE=image/webp:https://pmisp.org.br/wp-content/uploads/2024/07/download.webp
ORGANIZER;CN="PMI%C2%AE S%C3%A3o Paulo Project Management Institute Cap%C3%ADtulo S%C3%A3o Paulo":MAILTO:treinamentos@pmisp.org.br
END:VEVENT
BEGIN:VEVENT
DTSTART;TZID=America/Sao_Paulo:20241109T090000
DTEND;TZID=America/Sao_Paulo:20241130T180000
DTSTAMP:20260421T124431
CREATED:20240624T171731Z
LAST-MODIFIED:20240627T221213Z
UID:1001-1731142800-1732989600@pmisp.org.br
SUMMARY:Preparatório Oficial PMI DA® (Disciplined Agile) - DASSM®  (Disciplined Agile Senior Scrum Master) Online - Sábados - Turma 09
DESCRIPTION:Treinamento OFICIAL do PMI®\n\nParcerias com capítulos brasileiros do PMI: \nPMI BA – Bahia\, PMI ES – Espírito Santo\, PMI MG – Minas Gerais\, PMI PB – Paraíba\, PMI RJ – Rio de Janeiro\, PMI RS – Rio Grande do Sul\, PMI CE – Ceará\n \nDetalhes do Curso\nCarga Horária: 16 horas\nFormato: Online\nAulas: Aos Sábados\, das 09:00 às 18:00\nA conclusão do preparatório concede 14 PDU’s\nIdioma: Português (Aula e Materiais)\n \n\n \nDisciplined Agile Scrum Master Senior\nO que é DA® (Disciplined Agile ou Ágil Disciplinado)?\nO Disciplined Agile® não é uma estrutura\, mas sim um kit de ferramentas que enfoca as decisões que você precisa considerar\, as opções disponíveis e as compensações associadas a essas opções. Ele mostra como combinar efetivamente estratégias de Scrum\, Kanban\, SAFe® e muitas outras abordagens de maneira adaptável e escalonável. As organizações que adotam o Disciplined Agile® chegam ao mercado mais cedo\, entregam valor com mais rapidez e deixam seus clientes mais felizes.\nEstenda o ágil além de uma abordagem única: porque a verdadeira agilidade vem da liberdade\, não das estruturas.\nCada equipe tem sua forma de trabalhar. Mesmo assim\, você se limita a uma estrutura amplamente usada ou a uma das inúmeras abordagens ágeis que existem. Claro\, uma estrutura pode ajudar\, mas o caminho mais inteligente a seguir muitas vezes toma emprestado o pensamento de vários. É aí que o Disciplined Agile® pode ajudar.\n \nLidere sua equipe para a excelência com o DA® (Disciplined Agile ou Ágil Disciplinado)\nVocê quer aprender como liderar com sucesso uma\, ou talvez várias equipes ágeis? Você está procurando acelerar sua capacidade de gerenciar iniciativas de alto perfil que são críticas para o sucesso da empresa? Você quer levar a agilidade de negócios para o próximo nível\, aplicando técnicas ágeis e enxutas em uma ampla variedade de situações\, incluindo equipes que não são de software?\n\nO Disciplined Agile Senior Scrum Master (DASSM®) é um curso de 2 dias para praticantes ágeis experientes que ensina como usar o kit de ferramentas Disciplined Agile® (DA®) para otimizar como as equipes trabalham\, trabalham com aliados dentro de sua organização e resolvem uma variedade de problemas avançados.\nEste curso de 14 PDUs (3.5 Leadership e 10.5 Technical)\, irá prepará-lo para fazer o exame DASSM® e começar a usar o Disciplined Agile® imediatamente em sua função de liderança.\n \nPor que você deseja participar deste curso\nDê um mergulho profundo no kit de ferramentas DA® para desenvolver uma compreensão abrangente das centenas de práticas e estratégias que ele contém e as compensações de aplicá-las.\nAprenda a aplicar o kit de ferramentas DA® para orientar suas equipes na escolha e evolução da melhor forma de trabalhar (WoW) em qualquer situação.\nUse o kit de ferramentas DA® para resolver desafios complexos comumente encontrados em equipes de negócios de software e operacionais.\nAprenda como liderar equipes ágeis por meio de atividades corporativas importantes\, como planejamento\, coordenação e geração de relatórios\, e esteja pronto para mostrar suas melhorias nas áreas em que sua organização está lutando.\nEntenda como melhorar a entrega de valor para seus clientes\, capacitando outras pessoas em sua organização\, nutrindo a inteligência emocional e resolvendo conflitos.\n \nRequisitos do curso\n• Dois anos de experiência trabalhando em uma equipe ágil\, idealmente em uma função de liderança como Disciplined Agile Scrum Master\, Scrum Master\, Product Owner ou proprietário da arquitetura.\n• Compreensão dos fundamentos do kit de ferramentas DA®\, tendo feito um ou mais dos seguintes:\n• Fez o curso Disciplined Agile Scrum Master (DASM®)\n• Curso on-line de Princípios Básicos do Agile Disciplinado\n• Leia a seção 1\, ou mais\, de Choose Your WoW (gratuíto para associados PMI)\n \nComo funciona\n• Inscreva-se aqui neste treinamento de 5 dias\n• Conclua o curso para receber o convite para o exame DASSM®. Você terá 30 dias para fazer o exame e a taxa desta primeira tentativa está incluída no valor do curso.\n• Depois de passar no exame\, você receberá sua certificação\, bem como um selo que pode compartilhar com sua rede. A certificação é válida por um ano e pode ser renovada após o vencimento.\nPara mais informações sobre a certificação DASSM® e sobre as certificações ágeis\, acesse: https://www.pmi.org/certifications/agile-certifications/disciplined-agile-senior-scrum-master-dassm\n \nPor que você deve escolher o PMI-SP?\n• Instrutores altamente qualificados e certificados\n• Apostila oficial do PMI®️ \n• Acompanhamento acadêmico com padrinhos\n• Vídeos exclusivos do PMI®️ Spotlight\n• Material atualizado e revisado pelo representante oficial do PMI®️ em São Paulo\n• Certificado de participação para elegibilidade\n• Aulas Ao vivo e Online\n \nAs informações de acesso serão enviadas próximas ao início do curso.
URL:https://pmisp.org.br/evento/preparatorio-oficial-pmi-da-disciplined-agile-dassm-online-sabados-turma-09/
CATEGORIES:Preparatórios Oficiais
ATTACH;FMTTYPE=image/webp:https://pmisp.org.br/wp-content/uploads/2024/06/download-14.webp
ORGANIZER;CN="PMI%C2%AE S%C3%A3o Paulo Project Management Institute Cap%C3%ADtulo S%C3%A3o Paulo":MAILTO:treinamentos@pmisp.org.br
END:VEVENT
END:VCALENDAR