BEGIN:VCALENDAR
VERSION:2.0
PRODID:-//PMI® São Paulo - ECPv6.15.20//NONSGML v1.0//EN
CALSCALE:GREGORIAN
METHOD:PUBLISH
X-ORIGINAL-URL:https://pmisp.org.br
X-WR-CALDESC:Eventos para PMI® São Paulo
REFRESH-INTERVAL;VALUE=DURATION:PT1H
X-Robots-Tag:noindex
X-PUBLISHED-TTL:PT1H
BEGIN:VTIMEZONE
TZID:America/Sao_Paulo
BEGIN:STANDARD
TZOFFSETFROM:-0300
TZOFFSETTO:-0300
TZNAME:-03
DTSTART:20230101T000000
END:STANDARD
END:VTIMEZONE
BEGIN:VEVENT
DTSTART;TZID=America/Sao_Paulo:20240621T193000
DTEND;TZID=America/Sao_Paulo:20240817T213000
DTSTAMP:20260421T065956
CREATED:20240711T194050Z
LAST-MODIFIED:20240720T194837Z
UID:1147-1718998200-1723930200@pmisp.org.br
SUMMARY:Jobs 2024 - Jornada de Recolocação
DESCRIPTION:O PMI São Paulo convida você\, mais uma vez\, para participar deste ciclo de palestras\, oferecido pelo Jobs Jornada de Recolocação\, que tem o objetivo de beneficiar os voluntários do capítulo PMI São Paulo\, ajudando na recolocação no mercado de trabalho ou na evolução profissional a fim de garantir a vaga que você sempre sonhou! \nNesse evento\, exclusivo para Voluntários do PMI São Paulo\, você vai ter encontros com Luciana Régis e Ana Carvalho. Cada sessão abordará um tema específico\, preparando os participantes para entrevistas e busca de oportunidades. \nVale 1 PDU/Hora de treinamento mediante resposta da pesquisa de satisfação! \nO projeto será dividido em oito encontros descritos a seguir: \n05/06 – Jobs 4 you – Liderança Feminina: Desafios e Oportunidades para chegar a cargos de liderança – Luciana Régis – Person Corp\n12/06 – Trilha – Currículo + Linkedin\n26/06 – Jobs 4 You – Carreira nos USA – Renato Ucha – NL next levels\n10/07 – Trilha – Story Telling + Elevator pitch\n17/07 – Jobs 4 You – Carreira 50+ – Ana Carvalho – Person Corp\n24/07 – Trilha – Comunicação não violenta + Rapport\n07/08 – Jobs 4 You – Carreiras em gestão de projetos – Diego Jesus\n*Sempre das 19:30 às 21:30 h \nNota: 17/08/2024 – Trilha – Sustentabilidade emocional: Evento presencial das 09h às 16h.
URL:https://pmisp.org.br/evento/jobs-2024-jornada-de-recolocacao/
CATEGORIES:Treinamentos para Voluntários
ATTACH;FMTTYPE=image/jpeg:https://pmisp.org.br/wp-content/uploads/2024/07/Logo-JOBS-2024-1-e1721504248557.jpg
ORGANIZER;CN="PMI%C2%AE S%C3%A3o Paulo Project Management Institute Cap%C3%ADtulo S%C3%A3o Paulo":MAILTO:treinamentos@pmisp.org.br
END:VEVENT
BEGIN:VEVENT
DTSTART;TZID=America/Sao_Paulo:20240813T190000
DTEND;TZID=America/Sao_Paulo:20240912T230000
DTSTAMP:20260421T065956
CREATED:20240624T150749Z
LAST-MODIFIED:20240804T141930Z
UID:947-1723575600-1726182000@pmisp.org.br
SUMMARY:Preparatório Oficial PMP® (Project Management Professional) Online - Terças e Quintas - Turma 56
DESCRIPTION:Treinamento OFICIAL do PMI®\n\nParcerias com capítulos brasileiros do PMI: \nPMI RS\, PMI RJ\, PMI BA\, PMI ES\, PMI MG\, PMI PB\, PMI DF\n \nDetalhes do Curso\nCarga Horária: 40 horas\nFormato: Online\nAulas: Terças-feiras e Quintas-feiras das 19:00 às 23:00\nA conclusão do preparatório concede 35 PDU’s\nIdioma: Português (Aula e Materiais)\n \n\n\n\nProject Management Professional\nAumente suas possibilidades\, turbine suas habilidades e trabalhe com mais inteligência!\nO Project Management Professional (PMP®) é a certificação líder mundial em gerenciamento de projetos. Agora incluindo abordagens preditivas\, ágeis e híbridas\, o PMP® prova experiência e expertise em liderança de projeto em qualquer forma de trabalho.\nA certificação PMP® é projetada por profissionais de projetos\, para profissionais de projetos e valida que você está altamente qualificado em:\n• Pessoas\, enfatizando as habilidades básicas de que você precisa para liderar com eficácia uma equipe de projeto no ambiente em constante mudança de hoje.\n• Processo\, reforçando os aspectos técnicos de uma gestão bem-sucedida de projetos.\n• Ambiente de Negócios\, destacando a conexão entre os projetos e a estratégia organizacional.\nA certificação PMP® valida que você tem as habilidades de liderança de projeto que os empregadores procuram. O novo PMP® inclui três abordagens principais: Preditivo (cascata)\, Ágil e Híbrido.\n \n\n\n \nConteúdo:\n+ 300 Questões do Exame Oficial com Correção Ao Vivo!\nTema 1 – Criando equipes de alto desempenho\n• Construir uma equipe\n• Definir as regras básicas da equipe\n• Negociar acordos de projeto\n• Dar autonomia aos membros da equipe e às partes interessadas\n• Treinar membros da equipe e partes interessadas\n• Engajar e apoiar equipes virtuais\n• Desenvolver um entendimento compartilhado sobre um projeto\nTema 2 – Iniciando o projeto\n• Determinar a metodologia e as práticas apropriadas do projeto\n• Planejar e gerenciar o escopo\n• Planejar e gerenciar orçamento e recursos\n• Planejar e gerenciar o cronograma\n• Planejar e gerenciar a qualidade dos produtos/entregas\n• Integrar as atividades de planejamento do projeto\n• Planejar e gerenciar aquisições\n• Estabelecer a estrutura de governança do projeto\n• Planejar e gerenciar o fechamento de projeto/fase\nTema 3 – Realizando o trabalho\n• Avaliar e gerenciar riscos\n• Executar o projeto para entregar valor de negócio\n• Gerenciar as comunicações\n• Engajar as partes interessadas\n• Criar artefatos de projeto\n• Gerenciar mudanças no projeto\n• Gerenciar questões do projeto\n• Garantir a transferência de conhecimento para a continuidade do projeto\nTema 4 – Mantendo a equipe no rumo certo\n• Liderar uma equipe\n• Apoiar o desempenho da equipe\n• Abordar e remover impedimentos\, obstáculos e bloqueadores\n• Gerenciar conflitos\n• Colaborar com as partes interessadas\n• Orientar as partes interessadas relevantes\n• Aplicar a inteligência emocional para promover o desempenho da equipe\nTema 5 – Mantendo o foco nos negócios\n• Gerenciar requisitos de conformidade\n• Avaliar e entregar benefícios e valor do projeto\n• Avaliar e abordar mudanças internas e externas do ambiente de negócios\n• Apoiar a mudança organizacional\n• Empregar melhorias contínuas no processo\n \nPré-requisitos:\nCategoria 1: Ensino Superior completo + 3 anos de experiência em gerenciamento de projetos.\nCategoria 2: Ensino Médio completo + 5 anos de experiência em gerenciamento de projetos.\n \nSaiba mais sobre os pré-requisitos: https://www.pmi.org/certifications/project-management-pmp \n \nQuer saber como funciona todo o processo para a certificação PMP®? Saiba mais em: https://certification.pmi.org/launch/application/pmp\n \nPor que você deve escolher o PMI-SP?\n• Instrutores altamente qualificados e certificados\n• Apostila oficial do PMI®️ \n• Acompanhamento acadêmico com padrinhos\n• Vídeos exclusivos do PMI®️ Spotlight\n• Material atualizado e revisado pelo representante oficial do PMI®️ em São Paulo\n• Certificado de participação para elegibilidade\n• Aulas Ao vivo e Online\n \nO valor da prova NÃO está embutido no valor deste treinamento.\n \nAs informações de acesso serão enviadas próximas ao início do curso.
URL:https://pmisp.org.br/evento/preparatorio-oficial-pmp-online-tercas-e-quintas-turma-56/
CATEGORIES:Preparatórios Oficiais
ATTACH;FMTTYPE=image/webp:https://pmisp.org.br/wp-content/uploads/2024/06/image.webp
ORGANIZER;CN="PMI%C2%AE S%C3%A3o Paulo Project Management Institute Cap%C3%ADtulo S%C3%A3o Paulo":MAILTO:treinamentos@pmisp.org.br
END:VEVENT
BEGIN:VEVENT
DTSTART;TZID=America/Sao_Paulo:20240816T110000
DTEND;TZID=America/Sao_Paulo:20240816T123000
DTSTAMP:20260421T065956
CREATED:20240806T222230Z
LAST-MODIFIED:20240806T222346Z
UID:2032-1723806000-1723811400@pmisp.org.br
SUMMARY:PMI Chapter Xchange de 2024 - Mastering Art of Communication in Project Management
DESCRIPTION:Participe do 7o Evento PMI Chapter Xchange de 2024!\n📣 Tópico: Mastering Art of Communication in Project Management \n📅 Data: 16 de Agosto\, 2024\n🕖 Horário: 11:00 – 12:30 BRT\n🔗 Registre-se: https://lnkd.in/d9mid8rq\n🌟 Evento gratuito e aberto a membros e não membros do PMI. \nMais um evento com apoio do PMI São Paulo e uma colaboração de 32 vias entre Capítulos do Project Management Institute. \nModeradora:\nMichelle\, Hsu CAPM PRINCE2 \nPainelistas:\nIuliia Chepurko\, PhD\, PMP\, RMP – United States\nMPM Jorge Moreno Lara – Mexico\nPrerak Shah – India\nLaura Roversi-Trafas – Netherlands\nSinyi Wang – Taiwan \nSpotlight Chapter of the Month:\nPMI Lahore Chapter
URL:https://pmisp.org.br/evento/pmi-chapter-xchange-de-2024-mastering-art-of-communication-in-project-management/
CATEGORIES:Chapter Exchange
ATTACH;FMTTYPE=image/jpeg:https://pmisp.org.br/wp-content/uploads/2024/08/CXP-Aug-2024--scaled.jpg
ORGANIZER;CN="PMI%C2%AE S%C3%A3o Paulo Project Management Institute Cap%C3%ADtulo S%C3%A3o Paulo":MAILTO:treinamentos@pmisp.org.br
END:VEVENT
END:VCALENDAR